BEGIN:VCALENDAR
VERSION:2.0
PRODID:-//spbstu.ru//ical//RU
NAME:Расписание
X-WR-CALNAME:Расписание
TIMEZONE-ID:Europe/Moscow
X-WR-TIMEZONE:Europe/Moscow
BEGIN:VEVENT
UID:xsjp@192.168.245.71:3006
SEQUENCE:0
DTSTAMP:20260423T062410Z
DTSTART:20250922T070000Z
DTEND:20250922T084000Z
SUMMARY:Техническая защита информации
LOCATION:ГЗ 165
END:VEVENT
BEGIN:VEVENT
UID:tzyt@192.168.245.71:3006
SEQUENCE:0
DTSTAMP:20260423T062410Z
DTSTART:20250922T090000Z
DTEND:20250922T104000Z
SUMMARY:Техническая защита информации
LOCATION:ГЗ 165
END:VEVENT
BEGIN:VEVENT
UID:401g@192.168.245.71:3006
SEQUENCE:0
DTSTAMP:20260423T062410Z
DTSTART:20250922T110000Z
DTEND:20250922T124000Z
SUMMARY:Электроника и схемотехника
LOCATION:ГЗ 171
END:VEVENT
BEGIN:VEVENT
UID:wms4@192.168.245.71:3006
SEQUENCE:0
DTSTAMP:20260423T062410Z
DTSTART:20250922T130000Z
DTEND:20250922T144000Z
SUMMARY:Электроника и схемотехника
LOCATION:ГЗ 171
END:VEVENT
BEGIN:VEVENT
UID:u9mw@192.168.245.71:3006
SEQUENCE:0
DTSTAMP:20260423T062410Z
DTSTART:20250922T144000Z
DTEND:20250922T152000Z
SUMMARY:Техническая защита информации
LOCATION:ГЗ 171
END:VEVENT
BEGIN:VEVENT
UID:g3bp@192.168.245.71:3006
SEQUENCE:0
DTSTAMP:20260423T062410Z
DTSTART:20250923T070000Z
DTEND:20250923T084000Z
SUMMARY:Электроника и схемотехника
LOCATION:ГЗ 235
END:VEVENT
BEGIN:VEVENT
UID:dnfi@192.168.245.71:3006
SEQUENCE:0
DTSTAMP:20260423T062410Z
DTSTART:20250923T090000Z
DTEND:20250923T104000Z
SUMMARY:Техническая защита информации
LOCATION:ГЗ 171
END:VEVENT
BEGIN:VEVENT
UID:wazy@192.168.245.71:3006
SEQUENCE:0
DTSTAMP:20260423T062410Z
DTSTART:20250923T110000Z
DTEND:20250923T124000Z
SUMMARY:Электроника и схемотехника
LOCATION:ГЗ 171
END:VEVENT
BEGIN:VEVENT
UID:qihl@192.168.245.71:3006
SEQUENCE:0
DTSTAMP:20260423T062410Z
DTSTART:20250923T130000Z
DTEND:20250923T144000Z
SUMMARY:Электроника и схемотехника
LOCATION:ГЗ 171
END:VEVENT
BEGIN:VEVENT
UID:yn3x@192.168.245.71:3006
SEQUENCE:0
DTSTAMP:20260423T062410Z
DTSTART:20250924T070000Z
DTEND:20250924T084000Z
SUMMARY:Электроника и схемотехника
LOCATION:ГЗ 171
END:VEVENT
BEGIN:VEVENT
UID:o9g5@192.168.245.71:3006
SEQUENCE:0
DTSTAMP:20260423T062410Z
DTSTART:20250924T090000Z
DTEND:20250924T104000Z
SUMMARY:Электроника и схемотехника
LOCATION:ГЗ 171
END:VEVENT
BEGIN:VEVENT
UID:cyu6@192.168.245.71:3006
SEQUENCE:0
DTSTAMP:20260423T062410Z
DTSTART:20250925T070000Z
DTEND:20250925T084000Z
SUMMARY:Техническая защита информации
LOCATION:ГЗ 283
END:VEVENT
BEGIN:VEVENT
UID:drux@192.168.245.71:3006
SEQUENCE:0
DTSTAMP:20260423T062410Z
DTSTART:20250925T110000Z
DTEND:20250925T124000Z
SUMMARY:Электроника и схемотехника
LOCATION:ГЗ 235
END:VEVENT
BEGIN:VEVENT
UID:bvbl@192.168.245.71:3006
SEQUENCE:0
DTSTAMP:20260423T062410Z
DTSTART:20250925T130000Z
DTEND:20250925T144000Z
SUMMARY:Техническая защита информации
LOCATION:ГЗ 171
END:VEVENT
BEGIN:VEVENT
UID:xkif@192.168.245.71:3006
SEQUENCE:0
DTSTAMP:20260423T062410Z
DTSTART:20250925T150000Z
DTEND:20250925T164000Z
SUMMARY:Инженерно-техническое обеспечение информационной безопасности
LOCATION:ГЗ 171
END:VEVENT
BEGIN:VEVENT
UID:ao3t@192.168.245.71:3006
SEQUENCE:0
DTSTAMP:20260423T062410Z
DTSTART:20250925T170000Z
DTEND:20250925T184000Z
SUMMARY:Инженерно-техническое обеспечение информационной безопасности
LOCATION:ГЗ 171
END:VEVENT
BEGIN:VEVENT
UID:usza@192.168.245.71:3006
SEQUENCE:0
DTSTAMP:20260423T062410Z
DTSTART:20250926T090000Z
DTEND:20250926T104000Z
SUMMARY:Техническая защита информации
LOCATION:ГЗ 105
END:VEVENT
BEGIN:VEVENT
UID:ysra@192.168.245.71:3006
SEQUENCE:0
DTSTAMP:20260423T062410Z
DTSTART:20250926T110000Z
DTEND:20250926T124000Z
SUMMARY:Техническая защита информации
LOCATION:3 к. 504
END:VEVENT
BEGIN:VEVENT
UID:g88t@192.168.245.71:3006
SEQUENCE:0
DTSTAMP:20260423T062410Z
DTSTART:20250926T130000Z
DTEND:20250926T144000Z
SUMMARY:Техническая защита информации
LOCATION:3 к. 504
END:VEVENT
END:VCALENDAR