BEGIN:VCALENDAR
VERSION:2.0
PRODID:-//spbstu.ru//ical//RU
NAME:Расписание
X-WR-CALNAME:Расписание
TIMEZONE-ID:Europe/Moscow
X-WR-TIMEZONE:Europe/Moscow
BEGIN:VEVENT
UID:hvxh@192.168.245.71:3006
SEQUENCE:0
DTSTAMP:20260425T003403Z
DTSTART:20251014T090000Z
DTEND:20251014T104000Z
SUMMARY:Управление научными и высокотехнологичными проектами
LOCATION:11 к. 345
END:VEVENT
BEGIN:VEVENT
UID:71a7@192.168.245.71:3006
SEQUENCE:0
DTSTAMP:20260425T003403Z
DTSTART:20251014T110000Z
DTEND:20251014T124000Z
SUMMARY:Управление научными и высокотехнологичными проектами
LOCATION:11 к. 345
END:VEVENT
BEGIN:VEVENT
UID:bbij@192.168.245.71:3006
SEQUENCE:0
DTSTAMP:20260425T003403Z
DTSTART:20251015T130000Z
DTEND:20251015T144000Z
SUMMARY:Статистические методы в управлении качеством
LOCATION:11 к. 345
END:VEVENT
BEGIN:VEVENT
UID:rzsl@192.168.245.71:3006
SEQUENCE:0
DTSTAMP:20260425T003403Z
DTSTART:20251015T150000Z
DTEND:20251015T164000Z
SUMMARY:Математические модели технических объектов управления
LOCATION:11 к. 345
END:VEVENT
BEGIN:VEVENT
UID:ibgm@192.168.245.71:3006
SEQUENCE:0
DTSTAMP:20260425T003403Z
DTSTART:20251015T150000Z
DTEND:20251015T164000Z
SUMMARY:Математические модели технических объектов управления
LOCATION:11 к. 345
END:VEVENT
BEGIN:VEVENT
UID:5ly8@192.168.245.71:3006
SEQUENCE:0
DTSTAMP:20260425T003403Z
DTSTART:20251016T110000Z
DTEND:20251016T124000Z
SUMMARY:Статистика в инновационной деятельности
LOCATION:11 к. 345
END:VEVENT
BEGIN:VEVENT
UID:hoff@192.168.245.71:3006
SEQUENCE:0
DTSTAMP:20260425T003403Z
DTSTART:20251016T130000Z
DTEND:20251016T144000Z
SUMMARY:Управление рисками
LOCATION:11 к. 345
END:VEVENT
BEGIN:VEVENT
UID:5hv8@192.168.245.71:3006
SEQUENCE:0
DTSTAMP:20260425T003403Z
DTSTART:20251016T130000Z
DTEND:20251016T144000Z
SUMMARY:Управление рисками
LOCATION:11 к. 345
END:VEVENT
BEGIN:VEVENT
UID:rpd4@192.168.245.71:3006
SEQUENCE:0
DTSTAMP:20260425T003403Z
DTSTART:20251016T150000Z
DTEND:20251016T164000Z
SUMMARY:Статистические методы в управлении качеством
LOCATION:11 к. 345
END:VEVENT
END:VCALENDAR