BEGIN:VCALENDAR
VERSION:2.0
PRODID:-//spbstu.ru//ical//RU
NAME:Расписание
X-WR-CALNAME:Расписание
TIMEZONE-ID:Europe/Moscow
X-WR-TIMEZONE:Europe/Moscow
BEGIN:VEVENT
UID:8qv1@192.168.245.71:3006
SEQUENCE:0
DTSTAMP:20260422T110712Z
DTSTART:20260216T110000Z
DTEND:20260216T124000Z
SUMMARY:Теория вероятностей и математическая статистика
LOCATION:11 к. 344
END:VEVENT
BEGIN:VEVENT
UID:a4hg@192.168.245.71:3006
SEQUENCE:0
DTSTAMP:20260422T110712Z
DTSTART:20260216T130000Z
DTEND:20260216T144000Z
SUMMARY:Управление инновационными процессами: управление инновационными пр
 ограммами\, методы и инструменты управления\, управление продуктами
LOCATION:11 к. 344
END:VEVENT
BEGIN:VEVENT
UID:2ixi@192.168.245.71:3006
SEQUENCE:0
DTSTAMP:20260422T110712Z
DTSTART:20260216T130000Z
DTEND:20260216T144000Z
SUMMARY:Управление инновационными процессами: управление инновационными пр
 ограммами\, методы и инструменты управления\, управление продуктами
LOCATION:11 к. 344
END:VEVENT
BEGIN:VEVENT
UID:3z6z@192.168.245.71:3006
SEQUENCE:0
DTSTAMP:20260422T110712Z
DTSTART:20260216T150000Z
DTEND:20260216T164000Z
SUMMARY:Управление рисками
LOCATION:11 к. 350
END:VEVENT
BEGIN:VEVENT
UID:ze2s@192.168.245.71:3006
SEQUENCE:0
DTSTAMP:20260422T110712Z
DTSTART:20260216T150000Z
DTEND:20260216T164000Z
SUMMARY:Управление рисками
LOCATION:11 к. 350
END:VEVENT
BEGIN:VEVENT
UID:tcfu@192.168.245.71:3006
SEQUENCE:0
DTSTAMP:20260422T110712Z
DTSTART:20260217T110000Z
DTEND:20260217T124000Z
SUMMARY:Теория вероятностей и математическая статистика
LOCATION:ГЗ 224
END:VEVENT
BEGIN:VEVENT
UID:bmrt@192.168.245.71:3006
SEQUENCE:0
DTSTAMP:20260422T110712Z
DTSTART:20260217T130000Z
DTEND:20260217T144000Z
SUMMARY:Основы экономической теории в профессиональной деятельности
LOCATION:11 к. 350
END:VEVENT
BEGIN:VEVENT
UID:ln59@192.168.245.71:3006
SEQUENCE:0
DTSTAMP:20260422T110712Z
DTSTART:20260217T130000Z
DTEND:20260217T144000Z
SUMMARY:Основы экономической теории в профессиональной деятельности
LOCATION:11 к. 350
END:VEVENT
BEGIN:VEVENT
UID:gyhr@192.168.245.71:3006
SEQUENCE:0
DTSTAMP:20260422T110712Z
DTSTART:20260217T150000Z
DTEND:20260217T164000Z
SUMMARY:Статистика в инновационной деятельности
LOCATION:11 к. 350
END:VEVENT
BEGIN:VEVENT
UID:qlgq@192.168.245.71:3006
SEQUENCE:0
DTSTAMP:20260422T110712Z
DTSTART:20260217T150000Z
DTEND:20260217T164000Z
SUMMARY:Статистические методы в управлении качеством
LOCATION:11 к. 350
END:VEVENT
BEGIN:VEVENT
UID:o0f3@192.168.245.71:3006
SEQUENCE:0
DTSTAMP:20260422T110712Z
DTSTART:20260219T130000Z
DTEND:20260219T144000Z
SUMMARY:Типовые задачи прикладной инноватики
LOCATION:11 к. 345
END:VEVENT
BEGIN:VEVENT
UID:viix@192.168.245.71:3006
SEQUENCE:0
DTSTAMP:20260422T110712Z
DTSTART:20260219T150000Z
DTEND:20260219T164000Z
SUMMARY:Управление научными и высокотехнологичными проектами
LOCATION:11 к. 345
END:VEVENT
BEGIN:VEVENT
UID:b69i@192.168.245.71:3006
SEQUENCE:0
DTSTAMP:20260422T110712Z
DTSTART:20260219T150000Z
DTEND:20260219T164000Z
SUMMARY:Управление научными и высокотехнологичными проектами
LOCATION:11 к. 345
END:VEVENT
END:VCALENDAR