BEGIN:VCALENDAR
VERSION:2.0
PRODID:-//spbstu.ru//ical//RU
NAME:Расписание
X-WR-CALNAME:Расписание
TIMEZONE-ID:Europe/Moscow
X-WR-TIMEZONE:Europe/Moscow
BEGIN:VEVENT
UID:at9f@192.168.245.71:3006
SEQUENCE:0
DTSTAMP:20260422T081428Z
DTSTART:20260224T070000Z
DTEND:20260224T084000Z
SUMMARY:Теория вероятностей и математическая статистика
LOCATION:11 к. 345
END:VEVENT
BEGIN:VEVENT
UID:jtya@192.168.245.71:3006
SEQUENCE:0
DTSTAMP:20260422T081428Z
DTSTART:20260224T110000Z
DTEND:20260224T124000Z
SUMMARY:Математические модели технических объектов управления
LOCATION:11 к. 344-1
END:VEVENT
BEGIN:VEVENT
UID:gluc@192.168.245.71:3006
SEQUENCE:0
DTSTAMP:20260422T081428Z
DTSTART:20260224T110000Z
DTEND:20260224T124000Z
SUMMARY:Математические модели технических объектов управления
LOCATION:11 к. 344-1
END:VEVENT
BEGIN:VEVENT
UID:9zmu@192.168.245.71:3006
SEQUENCE:0
DTSTAMP:20260422T081428Z
DTSTART:20260224T130000Z
DTEND:20260224T144000Z
SUMMARY:Основы экономической теории в профессиональной деятельности
LOCATION:11 к. 350
END:VEVENT
BEGIN:VEVENT
UID:jgcf@192.168.245.71:3006
SEQUENCE:0
DTSTAMP:20260422T081428Z
DTSTART:20260224T130000Z
DTEND:20260224T144000Z
SUMMARY:Основы экономической теории в профессиональной деятельности
LOCATION:11 к. 350
END:VEVENT
BEGIN:VEVENT
UID:cfhv@192.168.245.71:3006
SEQUENCE:0
DTSTAMP:20260422T081428Z
DTSTART:20260226T130000Z
DTEND:20260226T144000Z
SUMMARY:Типовые задачи прикладной инноватики
LOCATION:11 к. 345
END:VEVENT
END:VCALENDAR