BEGIN:VCALENDAR
VERSION:2.0
PRODID:-//spbstu.ru//ical//RU
NAME:Расписание
X-WR-CALNAME:Расписание
TIMEZONE-ID:Europe/Moscow
X-WR-TIMEZONE:Europe/Moscow
BEGIN:VEVENT
UID:ikez@192.168.245.71:3006
SEQUENCE:0
DTSTAMP:20260423T002217Z
DTSTART:20260113T070000Z
DTEND:20260113T073000Z
SUMMARY:Стратегический менеджмент
LOCATION:50 уч.к 1112
END:VEVENT
BEGIN:VEVENT
UID:csgp@192.168.245.71:3006
SEQUENCE:0
DTSTAMP:20260423T002217Z
DTSTART:20260113T073000Z
DTEND:20260113T103000Z
SUMMARY:Стратегический менеджмент
LOCATION:50 уч.к 1112
END:VEVENT
BEGIN:VEVENT
UID:a0sn@192.168.245.71:3006
SEQUENCE:0
DTSTAMP:20260423T002217Z
DTSTART:20260116T080000Z
DTEND:20260116T085500Z
SUMMARY:Стратегический менеджмент
LOCATION:50 уч.к 1432
END:VEVENT
END:VCALENDAR