BEGIN:VCALENDAR
VERSION:2.0
PRODID:-//spbstu.ru//ical//RU
NAME:Расписание
X-WR-CALNAME:Расписание
TIMEZONE-ID:Europe/Moscow
X-WR-TIMEZONE:Europe/Moscow
BEGIN:VEVENT
UID:ak2p@192.168.245.71:3006
SEQUENCE:0
DTSTAMP:20260424T080710Z
DTSTART:20251006T070000Z
DTEND:20251006T084000Z
SUMMARY:Термодинамика и теплопередача
LOCATION:2 к. 143
END:VEVENT
BEGIN:VEVENT
UID:s79j@192.168.245.71:3006
SEQUENCE:0
DTSTAMP:20260424T080710Z
DTSTART:20251007T090000Z
DTEND:20251007T104000Z
SUMMARY:Теория горения
LOCATION:ГЗ 279
END:VEVENT
BEGIN:VEVENT
UID:mawv@192.168.245.71:3006
SEQUENCE:0
DTSTAMP:20260424T080710Z
DTSTART:20251007T110000Z
DTEND:20251007T124000Z
SUMMARY:Теория горения
LOCATION:ГЗ 279
END:VEVENT
BEGIN:VEVENT
UID:qudc@192.168.245.71:3006
SEQUENCE:0
DTSTAMP:20260424T080710Z
DTSTART:20251008T110000Z
DTEND:20251008T124000Z
SUMMARY:Теория горения
LOCATION:2 к. 160
END:VEVENT
BEGIN:VEVENT
UID:ghhx@192.168.245.71:3006
SEQUENCE:0
DTSTAMP:20260424T080710Z
DTSTART:20251008T130000Z
DTEND:20251008T140000Z
SUMMARY:Теория горения
LOCATION:2 к. 160
END:VEVENT
BEGIN:VEVENT
UID:znqw@192.168.245.71:3006
SEQUENCE:0
DTSTAMP:20260424T080710Z
DTSTART:20251009T090000Z
DTEND:20251009T104000Z
SUMMARY:Термодинамика и теплопередача
LOCATION:2 к. 143
END:VEVENT
END:VCALENDAR