BEGIN:VCALENDAR
VERSION:2.0
PRODID:-//spbstu.ru//ical//RU
NAME:Расписание
X-WR-CALNAME:Расписание
TIMEZONE-ID:Europe/Moscow
X-WR-TIMEZONE:Europe/Moscow
BEGIN:VEVENT
UID:vpjb@192.168.245.71:3006
SEQUENCE:0
DTSTAMP:20260424T112409Z
DTSTART:20250929T070000Z
DTEND:20250929T084000Z
SUMMARY:Термодинамика и теплопередача
LOCATION:2 к. 143
END:VEVENT
BEGIN:VEVENT
UID:6msx@192.168.245.71:3006
SEQUENCE:0
DTSTAMP:20260424T112409Z
DTSTART:20250929T090000Z
DTEND:20250929T104000Z
SUMMARY:Основы теплофизики
LOCATION:2 к. 160
END:VEVENT
BEGIN:VEVENT
UID:1kja@192.168.245.71:3006
SEQUENCE:0
DTSTAMP:20260424T112409Z
DTSTART:20250930T090000Z
DTEND:20250930T104000Z
SUMMARY:Теория горения
LOCATION:ГЗ 279
END:VEVENT
BEGIN:VEVENT
UID:xh85@192.168.245.71:3006
SEQUENCE:0
DTSTAMP:20260424T112409Z
DTSTART:20250930T130000Z
DTEND:20250930T144000Z
SUMMARY:Тепломассообмен
LOCATION:2 к. 160
END:VEVENT
BEGIN:VEVENT
UID:xjoc@192.168.245.71:3006
SEQUENCE:0
DTSTAMP:20260424T112409Z
DTSTART:20251001T110000Z
DTEND:20251001T124000Z
SUMMARY:Теория горения
LOCATION:2 к. 160
END:VEVENT
BEGIN:VEVENT
UID:r42b@192.168.245.71:3006
SEQUENCE:0
DTSTAMP:20260424T112409Z
DTSTART:20251001T130000Z
DTEND:20251001T140000Z
SUMMARY:Теория горения
LOCATION:2 к. 160
END:VEVENT
BEGIN:VEVENT
UID:62n6@192.168.245.71:3006
SEQUENCE:0
DTSTAMP:20260424T112409Z
DTSTART:20251002T070000Z
DTEND:20251002T084000Z
SUMMARY:Термодинамика и теплопередача
LOCATION:2 к. 160
END:VEVENT
BEGIN:VEVENT
UID:vwxe@192.168.245.71:3006
SEQUENCE:0
DTSTAMP:20260424T112409Z
DTSTART:20251002T090000Z
DTEND:20251002T104000Z
SUMMARY:Термодинамика и теплопередача
LOCATION:2 к. 143
END:VEVENT
END:VCALENDAR