BEGIN:VCALENDAR
VERSION:2.0
PRODID:-//spbstu.ru//ical//RU
NAME:Расписание
X-WR-CALNAME:Расписание
TIMEZONE-ID:Europe/Moscow
X-WR-TIMEZONE:Europe/Moscow
BEGIN:VEVENT
UID:jh79@192.168.245.71:3006
SEQUENCE:0
DTSTAMP:20260424T182004Z
DTSTART:20251027T070000Z
DTEND:20251027T084000Z
SUMMARY:Вычислительная механика
LOCATION:ГЗ 346-5
END:VEVENT
BEGIN:VEVENT
UID:sh9m@192.168.245.71:3006
SEQUENCE:0
DTSTAMP:20260424T182004Z
DTSTART:20251027T090000Z
DTEND:20251027T104000Z
SUMMARY:Вычислительная механика
LOCATION:ГЗ 346-5
END:VEVENT
BEGIN:VEVENT
UID:rufy@192.168.245.71:3006
SEQUENCE:0
DTSTAMP:20260424T182004Z
DTSTART:20251027T110000Z
DTEND:20251027T124000Z
SUMMARY:Вычислительная механика
LOCATION:ГЗ 346-5
END:VEVENT
BEGIN:VEVENT
UID:2way@192.168.245.71:3006
SEQUENCE:0
DTSTAMP:20260424T182004Z
DTSTART:20251028T090000Z
DTEND:20251028T104000Z
SUMMARY:Суперкомпьютерные технологии
LOCATION:ГЗ 346-5
END:VEVENT
BEGIN:VEVENT
UID:qdja@192.168.245.71:3006
SEQUENCE:0
DTSTAMP:20260424T182004Z
DTSTART:20251029T070000Z
DTEND:20251029T084000Z
SUMMARY:Теория колебаний
LOCATION:ГЗ 346-4ВИРД
END:VEVENT
BEGIN:VEVENT
UID:10zu@192.168.245.71:3006
SEQUENCE:0
DTSTAMP:20260424T182004Z
DTSTART:20251029T090000Z
DTEND:20251029T104000Z
SUMMARY:Теория колебаний
LOCATION:ГЗ 346-4ВИРД
END:VEVENT
BEGIN:VEVENT
UID:lry7@192.168.245.71:3006
SEQUENCE:0
DTSTAMP:20260424T182004Z
DTSTART:20251029T110000Z
DTEND:20251029T124000Z
SUMMARY:Вычислительная механика и компьютерный инжиниринг
LOCATION:ГЗ 346-5
END:VEVENT
BEGIN:VEVENT
UID:55h5@192.168.245.71:3006
SEQUENCE:0
DTSTAMP:20260424T182004Z
DTSTART:20251029T130000Z
DTEND:20251029T144000Z
SUMMARY:Вычислительная механика и компьютерный инжиниринг
LOCATION:ГЗ 346-5
END:VEVENT
BEGIN:VEVENT
UID:99t9@192.168.245.71:3006
SEQUENCE:0
DTSTAMP:20260424T182004Z
DTSTART:20251029T150000Z
DTEND:20251029T153000Z
SUMMARY:Вычислительная механика и компьютерный инжиниринг
LOCATION:ГЗ 346-5
END:VEVENT
BEGIN:VEVENT
UID:l45r@192.168.245.71:3006
SEQUENCE:0
DTSTAMP:20260424T182004Z
DTSTART:20251030T130000Z
DTEND:20251030T144000Z
SUMMARY:Вычислительная механика
LOCATION:ГЗ 346-5
END:VEVENT
BEGIN:VEVENT
UID:s5be@192.168.245.71:3006
SEQUENCE:0
DTSTAMP:20260424T182004Z
DTSTART:20251030T140000Z
DTEND:20251030T145000Z
SUMMARY:Основы автоматизированного проектирования
LOCATION:ГЗ 346-4ВИРД
END:VEVENT
END:VCALENDAR