BEGIN:VCALENDAR
VERSION:2.0
PRODID:-//spbstu.ru//ical//RU
NAME:Расписание
X-WR-CALNAME:Расписание
TIMEZONE-ID:Europe/Moscow
X-WR-TIMEZONE:Europe/Moscow
BEGIN:VEVENT
UID:sv9d@192.168.245.71:3006
SEQUENCE:0
DTSTAMP:20260424T090239Z
DTSTART:20251117T070000Z
DTEND:20251117T084000Z
SUMMARY:Вычислительная механика
LOCATION:ГЗ 346-5
END:VEVENT
BEGIN:VEVENT
UID:8hy6@192.168.245.71:3006
SEQUENCE:0
DTSTAMP:20260424T090239Z
DTSTART:20251117T090000Z
DTEND:20251117T104000Z
SUMMARY:Вычислительная механика
LOCATION:ГЗ 346-5
END:VEVENT
BEGIN:VEVENT
UID:wo0e@192.168.245.71:3006
SEQUENCE:0
DTSTAMP:20260424T090239Z
DTSTART:20251117T110000Z
DTEND:20251117T124000Z
SUMMARY:Вычислительная механика
LOCATION:ГЗ 346-5
END:VEVENT
BEGIN:VEVENT
UID:5uub@192.168.245.71:3006
SEQUENCE:0
DTSTAMP:20260424T090239Z
DTSTART:20251118T090000Z
DTEND:20251118T104000Z
SUMMARY:Суперкомпьютерные технологии
LOCATION:ГЗ 346-5
END:VEVENT
BEGIN:VEVENT
UID:sl5k@192.168.245.71:3006
SEQUENCE:0
DTSTAMP:20260424T090239Z
DTSTART:20251119T070000Z
DTEND:20251119T084000Z
SUMMARY:Теория колебаний
LOCATION:ГЗ 346-4ВИРД
END:VEVENT
BEGIN:VEVENT
UID:lgsk@192.168.245.71:3006
SEQUENCE:0
DTSTAMP:20260424T090239Z
DTSTART:20251119T090000Z
DTEND:20251119T104000Z
SUMMARY:Теория колебаний
LOCATION:ГЗ 346-4ВИРД
END:VEVENT
BEGIN:VEVENT
UID:3li4@192.168.245.71:3006
SEQUENCE:0
DTSTAMP:20260424T090239Z
DTSTART:20251119T130000Z
DTEND:20251119T144000Z
SUMMARY:Вычислительная механика и компьютерный инжиниринг
LOCATION:ГЗ 346-5
END:VEVENT
BEGIN:VEVENT
UID:wkp1@192.168.245.71:3006
SEQUENCE:0
DTSTAMP:20260424T090239Z
DTSTART:20251120T130000Z
DTEND:20251120T144000Z
SUMMARY:Вычислительная механика
LOCATION:ГЗ 346-5
END:VEVENT
BEGIN:VEVENT
UID:a5vl@192.168.245.71:3006
SEQUENCE:0
DTSTAMP:20260424T090239Z
DTSTART:20251120T140000Z
DTEND:20251120T145000Z
SUMMARY:Основы автоматизированного проектирования
LOCATION:ГЗ 346-4ВИРД
END:VEVENT
END:VCALENDAR