BEGIN:VCALENDAR
VERSION:2.0
PRODID:-//spbstu.ru//ical//RU
NAME:Расписание
X-WR-CALNAME:Расписание
TIMEZONE-ID:Europe/Moscow
X-WR-TIMEZONE:Europe/Moscow
BEGIN:VEVENT
UID:krk3@192.168.245.71:3006
SEQUENCE:0
DTSTAMP:20260424T233621Z
DTSTART:20250929T070000Z
DTEND:20250929T084000Z
SUMMARY:Вычислительная механика
LOCATION:ГЗ 346-5
END:VEVENT
BEGIN:VEVENT
UID:bvt0@192.168.245.71:3006
SEQUENCE:0
DTSTAMP:20260424T233621Z
DTSTART:20250929T090000Z
DTEND:20250929T104000Z
SUMMARY:Вычислительная механика
LOCATION:ГЗ 346-5
END:VEVENT
BEGIN:VEVENT
UID:ygl6@192.168.245.71:3006
SEQUENCE:0
DTSTAMP:20260424T233621Z
DTSTART:20250929T110000Z
DTEND:20250929T124000Z
SUMMARY:Вычислительная механика
LOCATION:ГЗ 346-5
END:VEVENT
BEGIN:VEVENT
UID:jr7m@192.168.245.71:3006
SEQUENCE:0
DTSTAMP:20260424T233621Z
DTSTART:20250930T090000Z
DTEND:20250930T104000Z
SUMMARY:Суперкомпьютерные технологии
LOCATION:ГЗ 346-5
END:VEVENT
BEGIN:VEVENT
UID:vyri@192.168.245.71:3006
SEQUENCE:0
DTSTAMP:20260424T233621Z
DTSTART:20251001T070000Z
DTEND:20251001T084000Z
SUMMARY:Теория колебаний
LOCATION:ГЗ 346-4ВИРД
END:VEVENT
BEGIN:VEVENT
UID:6wkz@192.168.245.71:3006
SEQUENCE:0
DTSTAMP:20260424T233621Z
DTSTART:20251001T090000Z
DTEND:20251001T104000Z
SUMMARY:Теория колебаний
LOCATION:ГЗ 346-4ВИРД
END:VEVENT
BEGIN:VEVENT
UID:2a6c@192.168.245.71:3006
SEQUENCE:0
DTSTAMP:20260424T233621Z
DTSTART:20251001T110000Z
DTEND:20251001T124000Z
SUMMARY:Вычислительная механика и компьютерный инжиниринг
LOCATION:ГЗ 346-5
END:VEVENT
BEGIN:VEVENT
UID:keb8@192.168.245.71:3006
SEQUENCE:0
DTSTAMP:20260424T233621Z
DTSTART:20251001T130000Z
DTEND:20251001T144000Z
SUMMARY:Вычислительная механика и компьютерный инжиниринг
LOCATION:ГЗ 346-5
END:VEVENT
BEGIN:VEVENT
UID:az8o@192.168.245.71:3006
SEQUENCE:0
DTSTAMP:20260424T233621Z
DTSTART:20251001T150000Z
DTEND:20251001T153000Z
SUMMARY:Вычислительная механика и компьютерный инжиниринг
LOCATION:ГЗ 346-5
END:VEVENT
BEGIN:VEVENT
UID:qc0u@192.168.245.71:3006
SEQUENCE:0
DTSTAMP:20260424T233621Z
DTSTART:20251002T130000Z
DTEND:20251002T144000Z
SUMMARY:Вычислительная механика
LOCATION:ГЗ 346-5
END:VEVENT
BEGIN:VEVENT
UID:mdq5@192.168.245.71:3006
SEQUENCE:0
DTSTAMP:20260424T233621Z
DTSTART:20251002T140000Z
DTEND:20251002T145000Z
SUMMARY:Основы автоматизированного проектирования
LOCATION:ГЗ 346-4ВИРД
END:VEVENT
END:VCALENDAR