BEGIN:VCALENDAR
VERSION:2.0
PRODID:-//spbstu.ru//ical//RU
NAME:Расписание
X-WR-CALNAME:Расписание
TIMEZONE-ID:Europe/Moscow
X-WR-TIMEZONE:Europe/Moscow
BEGIN:VEVENT
UID:0y8e@192.168.245.71:3006
SEQUENCE:0
DTSTAMP:20260425T115324Z
DTSTART:20250908T070000Z
DTEND:20250908T084000Z
SUMMARY:Вычислительная механика
LOCATION:ГЗ 346-5
END:VEVENT
BEGIN:VEVENT
UID:w9wa@192.168.245.71:3006
SEQUENCE:0
DTSTAMP:20260425T115324Z
DTSTART:20250908T090000Z
DTEND:20250908T104000Z
SUMMARY:Вычислительная механика
LOCATION:ГЗ 346-5
END:VEVENT
BEGIN:VEVENT
UID:0v39@192.168.245.71:3006
SEQUENCE:0
DTSTAMP:20260425T115324Z
DTSTART:20250908T110000Z
DTEND:20250908T124000Z
SUMMARY:Вычислительная механика
LOCATION:ГЗ 346-5
END:VEVENT
BEGIN:VEVENT
UID:k756@192.168.245.71:3006
SEQUENCE:0
DTSTAMP:20260425T115324Z
DTSTART:20250909T090000Z
DTEND:20250909T104000Z
SUMMARY:Суперкомпьютерные технологии
LOCATION:ГЗ 346-5
END:VEVENT
BEGIN:VEVENT
UID:cy8d@192.168.245.71:3006
SEQUENCE:0
DTSTAMP:20260425T115324Z
DTSTART:20250909T110000Z
DTEND:20250909T124000Z
SUMMARY:Образовательный форсайт
LOCATION:ГЗ 327-3
END:VEVENT
BEGIN:VEVENT
UID:ph14@192.168.245.71:3006
SEQUENCE:0
DTSTAMP:20260425T115324Z
DTSTART:20250910T070000Z
DTEND:20250910T084000Z
SUMMARY:Теория колебаний
LOCATION:ГЗ 346-4ВИРД
END:VEVENT
BEGIN:VEVENT
UID:px40@192.168.245.71:3006
SEQUENCE:0
DTSTAMP:20260425T115324Z
DTSTART:20250910T090000Z
DTEND:20250910T104000Z
SUMMARY:Теория колебаний
LOCATION:ГЗ 346-4ВИРД
END:VEVENT
BEGIN:VEVENT
UID:i0zr@192.168.245.71:3006
SEQUENCE:0
DTSTAMP:20260425T115324Z
DTSTART:20250911T130000Z
DTEND:20250911T144000Z
SUMMARY:Вычислительная механика
LOCATION:ГЗ 346-5
END:VEVENT
BEGIN:VEVENT
UID:n3yw@192.168.245.71:3006
SEQUENCE:0
DTSTAMP:20260425T115324Z
DTSTART:20250911T140000Z
DTEND:20250911T145000Z
SUMMARY:Основы автоматизированного проектирования
LOCATION:ГЗ 346-4ВИРД
END:VEVENT
BEGIN:VEVENT
UID:9bsp@192.168.245.71:3006
SEQUENCE:0
DTSTAMP:20260425T115324Z
DTSTART:20250912T070000Z
DTEND:20250912T084000Z
SUMMARY:Образовательный форсайт
LOCATION:ГЗ 346-5
END:VEVENT
END:VCALENDAR