BEGIN:VCALENDAR
VERSION:2.0
PRODID:-//spbstu.ru//ical//RU
NAME:Расписание
X-WR-CALNAME:Расписание
TIMEZONE-ID:Europe/Moscow
X-WR-TIMEZONE:Europe/Moscow
BEGIN:VEVENT
UID:0fzw@192.168.245.71:3006
SEQUENCE:0
DTSTAMP:20260421T184128Z
DTSTART:20260330T110000Z
DTEND:20260330T124000Z
SUMMARY:Численное решение прикладных задач
LOCATION:ГЗ 346-5
END:VEVENT
BEGIN:VEVENT
UID:e8s4@192.168.245.71:3006
SEQUENCE:0
DTSTAMP:20260421T184128Z
DTSTART:20260402T070000Z
DTEND:20260402T090000Z
SUMMARY:Вычислительная механика
LOCATION:ГЗ 346
END:VEVENT
BEGIN:VEVENT
UID:wm33@192.168.245.71:3006
SEQUENCE:0
DTSTAMP:20260421T184128Z
DTSTART:20260402T070000Z
DTEND:20260402T090000Z
SUMMARY:Вычислительная механика и компьютерный инжиниринг
LOCATION:ГЗ 346
END:VEVENT
BEGIN:VEVENT
UID:5szm@192.168.245.71:3006
SEQUENCE:0
DTSTAMP:20260421T184128Z
DTSTART:20260402T090000Z
DTEND:20260402T104000Z
SUMMARY:Вычислительная механика и компьютерный инжиниринг
LOCATION:ГЗ 346-5
END:VEVENT
BEGIN:VEVENT
UID:v2jd@192.168.245.71:3006
SEQUENCE:0
DTSTAMP:20260421T184128Z
DTSTART:20260402T110000Z
DTEND:20260402T124000Z
SUMMARY:Вычислительная механика и компьютерный инжиниринг
LOCATION:ГЗ 346-5
END:VEVENT
BEGIN:VEVENT
UID:vo3i@192.168.245.71:3006
SEQUENCE:0
DTSTAMP:20260421T184128Z
DTSTART:20260402T130000Z
DTEND:20260402T150000Z
SUMMARY:Теория колебаний
LOCATION:ГЗ 346
END:VEVENT
BEGIN:VEVENT
UID:zrf4@192.168.245.71:3006
SEQUENCE:0
DTSTAMP:20260421T184128Z
DTSTART:20260402T150000Z
DTEND:20260402T160000Z
SUMMARY:Образовательный форсайт
LOCATION:ГЗ 346
END:VEVENT
BEGIN:VEVENT
UID:8hhy@192.168.245.71:3006
SEQUENCE:0
DTSTAMP:20260421T184128Z
DTSTART:20260403T080000Z
DTEND:20260403T085000Z
SUMMARY:Качественные методы теории колебаний
LOCATION:ГЗ 346-4ВИРД
END:VEVENT
BEGIN:VEVENT
UID:jq0s@192.168.245.71:3006
SEQUENCE:0
DTSTAMP:20260421T184128Z
DTSTART:20260403T090000Z
DTEND:20260403T104000Z
SUMMARY:Качественные методы теории колебаний
LOCATION:ГЗ 346-4ВИРД
END:VEVENT
BEGIN:VEVENT
UID:ygpc@192.168.245.71:3006
SEQUENCE:0
DTSTAMP:20260421T184128Z
DTSTART:20260403T110000Z
DTEND:20260403T124000Z
SUMMARY:Основы автоматизированного проектирования
LOCATION:ГЗ 346-5
END:VEVENT
END:VCALENDAR