BEGIN:VCALENDAR
VERSION:2.0
PRODID:-//spbstu.ru//ical//RU
NAME:Расписание
X-WR-CALNAME:Расписание
TIMEZONE-ID:Europe/Moscow
X-WR-TIMEZONE:Europe/Moscow
BEGIN:VEVENT
UID:f6gf@192.168.245.71:3006
SEQUENCE:0
DTSTAMP:20260425T143348Z
DTSTART:20251117T050000Z
DTEND:20251117T064000Z
SUMMARY:Финансовые рынки
LOCATION:50 уч.к 1421
END:VEVENT
BEGIN:VEVENT
UID:s7f2@192.168.245.71:3006
SEQUENCE:0
DTSTAMP:20260425T143348Z
DTSTART:20251117T070000Z
DTEND:20251117T084000Z
SUMMARY:Финансовые рынки
LOCATION:50 уч.к 1421
END:VEVENT
BEGIN:VEVENT
UID:vw52@192.168.245.71:3006
SEQUENCE:0
DTSTAMP:20260425T143348Z
DTSTART:20251118T070000Z
DTEND:20251118T084000Z
SUMMARY:Биржевое дело и финансовая инфраструктура
LOCATION:50 уч.к 1426
END:VEVENT
BEGIN:VEVENT
UID:gafx@192.168.245.71:3006
SEQUENCE:0
DTSTAMP:20260425T143348Z
DTSTART:20251118T153000Z
DTEND:20251118T170000Z
SUMMARY:Инвестиционный анализ
LOCATION:DL Дистанционно
END:VEVENT
BEGIN:VEVENT
UID:rnsh@192.168.245.71:3006
SEQUENCE:0
DTSTAMP:20260425T143348Z
DTSTART:20251118T171500Z
DTEND:20251118T184500Z
SUMMARY:Инвестиционный анализ
LOCATION:DL Дистанционно
END:VEVENT
BEGIN:VEVENT
UID:aufb@192.168.245.71:3006
SEQUENCE:0
DTSTAMP:20260425T143348Z
DTSTART:20251120T153000Z
DTEND:20251120T170000Z
SUMMARY:Инвестиционный анализ
LOCATION:DL Дистанционно
END:VEVENT
BEGIN:VEVENT
UID:17hw@192.168.245.71:3006
SEQUENCE:0
DTSTAMP:20260425T143348Z
DTSTART:20251120T171500Z
DTEND:20251120T184500Z
SUMMARY:Инвестиционный анализ
LOCATION:DL Дистанционно
END:VEVENT
BEGIN:VEVENT
UID:7u36@192.168.245.71:3006
SEQUENCE:0
DTSTAMP:20260425T143348Z
DTSTART:20251121T130000Z
DTEND:20251121T144000Z
SUMMARY:Финансовые рынки
LOCATION:50 уч.к 1115
END:VEVENT
BEGIN:VEVENT
UID:5i0y@192.168.245.71:3006
SEQUENCE:0
DTSTAMP:20260425T143348Z
DTSTART:20251121T153000Z
DTEND:20251121T170000Z
SUMMARY:Инвестиционный анализ
LOCATION:DL Дистанционно
END:VEVENT
END:VCALENDAR