BEGIN:VCALENDAR
VERSION:2.0
PRODID:-//spbstu.ru//ical//RU
NAME:Расписание
X-WR-CALNAME:Расписание
TIMEZONE-ID:Europe/Moscow
X-WR-TIMEZONE:Europe/Moscow
BEGIN:VEVENT
UID:1s0n@192.168.245.71:3006
SEQUENCE:0
DTSTAMP:20260421T150418Z
DTSTART:20260406T090000Z
DTEND:20260406T104000Z
SUMMARY:Финансовый менеджмент
LOCATION:50 уч.к 1432
END:VEVENT
BEGIN:VEVENT
UID:kli9@192.168.245.71:3006
SEQUENCE:0
DTSTAMP:20260421T150418Z
DTSTART:20260407T110000Z
DTEND:20260407T124000Z
SUMMARY:Финансовый менеджмент
LOCATION:50 уч.к 1204
END:VEVENT
BEGIN:VEVENT
UID:sjnx@192.168.245.71:3006
SEQUENCE:0
DTSTAMP:20260421T150418Z
DTSTART:20260410T070000Z
DTEND:20260410T084000Z
SUMMARY:Финансовые рынки и институты
LOCATION:50 уч.к 1115
END:VEVENT
BEGIN:VEVENT
UID:ipq1@192.168.245.71:3006
SEQUENCE:0
DTSTAMP:20260421T150418Z
DTSTART:20260410T090000Z
DTEND:20260410T104000Z
SUMMARY:Финансовые рынки и институты
LOCATION:50 уч.к 1115
END:VEVENT
END:VCALENDAR