BEGIN:VCALENDAR
VERSION:2.0
PRODID:-//spbstu.ru//ical//RU
NAME:Расписание
X-WR-CALNAME:Расписание
TIMEZONE-ID:Europe/Moscow
X-WR-TIMEZONE:Europe/Moscow
BEGIN:VEVENT
UID:ih73@192.168.245.71:3006
SEQUENCE:0
DTSTAMP:20260422T073719Z
DTSTART:20260601T060000Z
DTEND:20260601T083000Z
SUMMARY:Финансовый менеджмент
LOCATION:50 уч.к 1113
END:VEVENT
BEGIN:VEVENT
UID:2c5c@192.168.245.71:3006
SEQUENCE:0
DTSTAMP:20260422T073719Z
DTSTART:20260602T090000Z
DTEND:20260602T104000Z
SUMMARY:Финансовый менеджмент
LOCATION:50 уч.к 1243
END:VEVENT
BEGIN:VEVENT
UID:je1q@192.168.245.71:3006
SEQUENCE:0
DTSTAMP:20260422T073719Z
DTSTART:20260602T090000Z
DTEND:20260602T104000Z
SUMMARY:Финансовый менеджмент
LOCATION:50 уч.к 1243
END:VEVENT
BEGIN:VEVENT
UID:xxf9@192.168.245.71:3006
SEQUENCE:0
DTSTAMP:20260422T073719Z
DTSTART:20260605T070000Z
DTEND:20260605T103000Z
SUMMARY:Финансовый менеджмент
LOCATION:50 уч.к 1217
END:VEVENT
BEGIN:VEVENT
UID:fcva@192.168.245.71:3006
SEQUENCE:0
DTSTAMP:20260422T073719Z
DTSTART:20260605T110000Z
DTEND:20260605T143000Z
SUMMARY:Финансовый менеджмент
LOCATION:50 уч.к 1217
END:VEVENT
END:VCALENDAR