BEGIN:VCALENDAR
VERSION:2.0
PRODID:-//spbstu.ru//ical//RU
NAME:Расписание
X-WR-CALNAME:Расписание
TIMEZONE-ID:Europe/Moscow
X-WR-TIMEZONE:Europe/Moscow
BEGIN:VEVENT
UID:kwg1@192.168.245.71:3006
SEQUENCE:0
DTSTAMP:20260421T035240Z
DTSTART:20260428T110000Z
DTEND:20260428T124000Z
SUMMARY:Теоретическая механика
LOCATION:ГЗ 215
END:VEVENT
BEGIN:VEVENT
UID:3taq@192.168.245.71:3006
SEQUENCE:0
DTSTAMP:20260421T035240Z
DTSTART:20260428T130000Z
DTEND:20260428T144000Z
SUMMARY:Теоретическая механика
LOCATION:ГЗ 106
END:VEVENT
BEGIN:VEVENT
UID:r960@192.168.245.71:3006
SEQUENCE:0
DTSTAMP:20260421T035240Z
DTSTART:20260429T090000Z
DTEND:20260429T104000Z
SUMMARY:Теоретическая механика
LOCATION:ГК-2 301а
END:VEVENT
BEGIN:VEVENT
UID:vhz8@192.168.245.71:3006
SEQUENCE:0
DTSTAMP:20260421T035240Z
DTSTART:20260429T110000Z
DTEND:20260429T124000Z
SUMMARY:Теоретическая механика
LOCATION:ГК-2 301а
END:VEVENT
BEGIN:VEVENT
UID:j0un@192.168.245.71:3006
SEQUENCE:0
DTSTAMP:20260421T035240Z
DTSTART:20260429T130000Z
DTEND:20260429T144000Z
SUMMARY:Теоретическая механика
LOCATION:ГК-2 301а
END:VEVENT
END:VCALENDAR