BEGIN:VCALENDAR
VERSION:2.0
PRODID:-//spbstu.ru//ical//RU
NAME:Расписание
X-WR-CALNAME:Расписание
TIMEZONE-ID:Europe/Moscow
X-WR-TIMEZONE:Europe/Moscow
BEGIN:VEVENT
UID:uqb2@192.168.245.71:3006
SEQUENCE:0
DTSTAMP:20260426T000423Z
DTSTART:20251117T050000Z
DTEND:20251117T064000Z
SUMMARY:Иностранный язык: Базовый курс
LOCATION:ГК-2 309
END:VEVENT
BEGIN:VEVENT
UID:dypi@192.168.245.71:3006
SEQUENCE:0
DTSTAMP:20260426T000423Z
DTSTART:20251117T070000Z
DTEND:20251117T084000Z
SUMMARY:Иностранный язык в профессиональной коммуникации\, Английский
LOCATION:ГК-2 309
END:VEVENT
BEGIN:VEVENT
UID:xuoo@192.168.245.71:3006
SEQUENCE:0
DTSTAMP:20260426T000423Z
DTSTART:20251117T090000Z
DTEND:20251117T104000Z
SUMMARY:Иностранный язык: Базовый курс
LOCATION:ГК-2 309
END:VEVENT
BEGIN:VEVENT
UID:wnbf@192.168.245.71:3006
SEQUENCE:0
DTSTAMP:20260426T000423Z
DTSTART:20251118T070000Z
DTEND:20251118T085000Z
SUMMARY:Иностранный язык в профессиональной коммуникации\, Английский
LOCATION:ГК-2 502
END:VEVENT
BEGIN:VEVENT
UID:llvb@192.168.245.71:3006
SEQUENCE:0
DTSTAMP:20260426T000423Z
DTSTART:20251118T090000Z
DTEND:20251118T104500Z
SUMMARY:Иностранный язык в профессиональной коммуникации (на английском яз
 ыке)\, Английский
LOCATION:ГК-2 502
END:VEVENT
BEGIN:VEVENT
UID:seo9@192.168.245.71:3006
SEQUENCE:0
DTSTAMP:20260426T000423Z
DTSTART:20251118T110000Z
DTEND:20251118T124000Z
SUMMARY:Иностранный язык. Профессионально-ориентированный курс
LOCATION:ГК-2 302
END:VEVENT
BEGIN:VEVENT
UID:9i8b@192.168.245.71:3006
SEQUENCE:0
DTSTAMP:20260426T000423Z
DTSTART:20251120T070000Z
DTEND:20251120T084000Z
SUMMARY:Иностранный язык в профессиональной коммуникации\, Английский
LOCATION:ГК-2 314
END:VEVENT
BEGIN:VEVENT
UID:9lri@192.168.245.71:3006
SEQUENCE:0
DTSTAMP:20260426T000423Z
DTSTART:20251120T090000Z
DTEND:20251120T104000Z
SUMMARY:Иностранный язык в профессиональной деятельности
LOCATION:ГК-2 503
END:VEVENT
BEGIN:VEVENT
UID:12p9@192.168.245.71:3006
SEQUENCE:0
DTSTAMP:20260426T000423Z
DTSTART:20251120T110000Z
DTEND:20251120T124000Z
SUMMARY:Иностранный язык в профессиональной коммуникации\, Английский
LOCATION:ГК-2 503
END:VEVENT
BEGIN:VEVENT
UID:qdjf@192.168.245.71:3006
SEQUENCE:0
DTSTAMP:20260426T000423Z
DTSTART:20251121T070000Z
DTEND:20251121T084000Z
SUMMARY:Иностранный язык. Профессионально-ориентированный курс
LOCATION:ГК 229
END:VEVENT
BEGIN:VEVENT
UID:0ipd@192.168.245.71:3006
SEQUENCE:0
DTSTAMP:20260426T000423Z
DTSTART:20251121T090000Z
DTEND:20251121T104000Z
SUMMARY:Иностранный язык. Профессионально-ориентированный курс
LOCATION:ГК 229
END:VEVENT
BEGIN:VEVENT
UID:oxwo@192.168.245.71:3006
SEQUENCE:0
DTSTAMP:20260426T000423Z
DTSTART:20251121T110000Z
DTEND:20251121T124000Z
SUMMARY:Иностранный язык. Профессионально-ориентированный курс
LOCATION:ГК 229
END:VEVENT
END:VCALENDAR