BEGIN:VCALENDAR
VERSION:2.0
PRODID:-//spbstu.ru//ical//RU
NAME:Расписание
X-WR-CALNAME:Расписание
TIMEZONE-ID:Europe/Moscow
X-WR-TIMEZONE:Europe/Moscow
BEGIN:VEVENT
UID:28i6@192.168.245.71:3006
SEQUENCE:0
DTSTAMP:20260423T041414Z
DTSTART:20251215T050000Z
DTEND:20251215T064000Z
SUMMARY:Иностранный язык: Базовый курс
LOCATION:ГК-2 309
END:VEVENT
BEGIN:VEVENT
UID:u7mq@192.168.245.71:3006
SEQUENCE:0
DTSTAMP:20260423T041414Z
DTSTART:20251215T070000Z
DTEND:20251215T084000Z
SUMMARY:Иностранный язык в профессиональной коммуникации\, Английский
LOCATION:ГК-2 309
END:VEVENT
BEGIN:VEVENT
UID:1tak@192.168.245.71:3006
SEQUENCE:0
DTSTAMP:20260423T041414Z
DTSTART:20251215T090000Z
DTEND:20251215T104000Z
SUMMARY:Иностранный язык: Базовый курс
LOCATION:ГК-2 309
END:VEVENT
BEGIN:VEVENT
UID:mqha@192.168.245.71:3006
SEQUENCE:0
DTSTAMP:20260423T041414Z
DTSTART:20251216T070000Z
DTEND:20251216T084000Z
SUMMARY:Иностранный язык в профессиональной коммуникации\, Английский
LOCATION:ГК-2 502
END:VEVENT
BEGIN:VEVENT
UID:z4fw@192.168.245.71:3006
SEQUENCE:0
DTSTAMP:20260423T041414Z
DTSTART:20251216T090000Z
DTEND:20251216T104500Z
SUMMARY:Иностранный язык в профессиональной коммуникации (на английском яз
 ыке)\, Английский
LOCATION:ГК-2 502
END:VEVENT
BEGIN:VEVENT
UID:68hl@192.168.245.71:3006
SEQUENCE:0
DTSTAMP:20260423T041414Z
DTSTART:20251216T110000Z
DTEND:20251216T124000Z
SUMMARY:Иностранный язык. Профессионально-ориентированный курс
LOCATION:ГК-2 302
END:VEVENT
BEGIN:VEVENT
UID:799h@192.168.245.71:3006
SEQUENCE:0
DTSTAMP:20260423T041414Z
DTSTART:20251217T070000Z
DTEND:20251217T074000Z
SUMMARY:Иностранный язык в профессиональной деятельности
LOCATION:ГК-2 512
END:VEVENT
BEGIN:VEVENT
UID:l8x9@192.168.245.71:3006
SEQUENCE:0
DTSTAMP:20260423T041414Z
DTSTART:20251217T080000Z
DTEND:20251217T084000Z
SUMMARY:Иностранный язык в профессиональной коммуникации\, Английский
LOCATION:ГК-2 512
END:VEVENT
BEGIN:VEVENT
UID:yntb@192.168.245.71:3006
SEQUENCE:0
DTSTAMP:20260423T041414Z
DTSTART:20251217T090000Z
DTEND:20251217T140000Z
SUMMARY:Иностранный язык в профессиональной коммуникации\, Английский
LOCATION:ГК-2 512
END:VEVENT
BEGIN:VEVENT
UID:o5ed@192.168.245.71:3006
SEQUENCE:0
DTSTAMP:20260423T041414Z
DTSTART:20251218T070000Z
DTEND:20251218T105000Z
SUMMARY:Иностранный язык в профессиональной деятельности
LOCATION:ГК-2 405
END:VEVENT
BEGIN:VEVENT
UID:794p@192.168.245.71:3006
SEQUENCE:0
DTSTAMP:20260423T041414Z
DTSTART:20251220T070000Z
DTEND:20251220T084000Z
SUMMARY:Иностранный язык в профессиональной коммуникации\, Английский
LOCATION:ГК-2 503
END:VEVENT
BEGIN:VEVENT
UID:rz8s@192.168.245.71:3006
SEQUENCE:0
DTSTAMP:20260423T041414Z
DTSTART:20251220T090000Z
DTEND:20251220T140000Z
SUMMARY:Иностранный язык в профессиональной коммуникации\, Английский
LOCATION:ГК-2 503
END:VEVENT
END:VCALENDAR