BEGIN:VCALENDAR
VERSION:2.0
PRODID:-//spbstu.ru//ical//RU
NAME:Расписание
X-WR-CALNAME:Расписание
TIMEZONE-ID:Europe/Moscow
X-WR-TIMEZONE:Europe/Moscow
BEGIN:VEVENT
UID:9zx4@192.168.245.71:3006
SEQUENCE:0
DTSTAMP:20260421T070336Z
DTSTART:20260330T090000Z
DTEND:20260330T104000Z
SUMMARY:Иностранный язык. Профессионально-ориентированный курс
LOCATION:ГК-2 502
END:VEVENT
BEGIN:VEVENT
UID:rzfs@192.168.245.71:3006
SEQUENCE:0
DTSTAMP:20260421T070336Z
DTSTART:20260330T110000Z
DTEND:20260330T124000Z
SUMMARY:Иностранный язык: Базовый курс
LOCATION:ГК-2 502
END:VEVENT
BEGIN:VEVENT
UID:h9se@192.168.245.71:3006
SEQUENCE:0
DTSTAMP:20260421T070336Z
DTSTART:20260330T130000Z
DTEND:20260330T144000Z
SUMMARY:Иностранный язык. Профессионально-ориентированный курс
LOCATION:ГК 230
END:VEVENT
BEGIN:VEVENT
UID:zv7u@192.168.245.71:3006
SEQUENCE:0
DTSTAMP:20260421T070336Z
DTSTART:20260331T110000Z
DTEND:20260331T124000Z
SUMMARY:Иностранный язык. Профессионально-ориентированный курс
LOCATION:ГК-2 314
END:VEVENT
BEGIN:VEVENT
UID:npad@192.168.245.71:3006
SEQUENCE:0
DTSTAMP:20260421T070336Z
DTSTART:20260331T130000Z
DTEND:20260331T144000Z
SUMMARY:Иностранный язык. Профессионально-ориентированный курс
LOCATION:ГК-2 314
END:VEVENT
BEGIN:VEVENT
UID:ywbh@192.168.245.71:3006
SEQUENCE:0
DTSTAMP:20260421T070336Z
DTSTART:20260401T090000Z
DTEND:20260401T104000Z
SUMMARY:Иностранный язык: Базовый курс
LOCATION:3 к. 205
END:VEVENT
BEGIN:VEVENT
UID:l0zd@192.168.245.71:3006
SEQUENCE:0
DTSTAMP:20260421T070336Z
DTSTART:20260401T110000Z
DTEND:20260401T124000Z
SUMMARY:Иностранный язык: Базовый курс
LOCATION:ГК 229
END:VEVENT
BEGIN:VEVENT
UID:d9mp@192.168.245.71:3006
SEQUENCE:0
DTSTAMP:20260421T070336Z
DTSTART:20260402T070000Z
DTEND:20260402T084000Z
SUMMARY:Иностранный язык. Профессионально-ориентированный курс
LOCATION:ГК-2 309
END:VEVENT
BEGIN:VEVENT
UID:be8u@192.168.245.71:3006
SEQUENCE:0
DTSTAMP:20260421T070336Z
DTSTART:20260402T090000Z
DTEND:20260402T104000Z
SUMMARY:Иностранный язык: Базовый курс
LOCATION:ГК-2 314
END:VEVENT
BEGIN:VEVENT
UID:axg4@192.168.245.71:3006
SEQUENCE:0
DTSTAMP:20260421T070336Z
DTSTART:20260402T110000Z
DTEND:20260402T124000Z
SUMMARY:Иностранный язык: Базовый курс
LOCATION:ГК-2 405
END:VEVENT
END:VCALENDAR