BEGIN:VCALENDAR
VERSION:2.0
PRODID:-//spbstu.ru//ical//RU
NAME:Расписание
X-WR-CALNAME:Расписание
TIMEZONE-ID:Europe/Moscow
X-WR-TIMEZONE:Europe/Moscow
BEGIN:VEVENT
UID:tm1k@192.168.245.71:3006
SEQUENCE:0
DTSTAMP:20260425T104020Z
DTSTART:20251013T130000Z
DTEND:20251013T144000Z
SUMMARY:Механизмы макроэкономической динамики
LOCATION:50 уч.к 1242
END:VEVENT
BEGIN:VEVENT
UID:mw6d@192.168.245.71:3006
SEQUENCE:0
DTSTAMP:20260425T104020Z
DTSTART:20251013T130000Z
DTEND:20251013T144000Z
SUMMARY:Механизмы макроэкономической динамики
LOCATION:50 уч.к 1242
END:VEVENT
BEGIN:VEVENT
UID:hpwy@192.168.245.71:3006
SEQUENCE:0
DTSTAMP:20260425T104020Z
DTSTART:20251013T150000Z
DTEND:20251013T164000Z
SUMMARY:Научно-исследовательская работа по организации стратегического раз
 вития
LOCATION:50 уч.к 1113
END:VEVENT
BEGIN:VEVENT
UID:h6e1@192.168.245.71:3006
SEQUENCE:0
DTSTAMP:20260425T104020Z
DTSTART:20251013T170000Z
DTEND:20251013T184000Z
SUMMARY:Научно-исследовательская работа по организации стратегического раз
 вития
LOCATION:50 уч.к 1113
END:VEVENT
BEGIN:VEVENT
UID:yj0q@192.168.245.71:3006
SEQUENCE:0
DTSTAMP:20260425T104020Z
DTSTART:20251014T153000Z
DTEND:20251014T170000Z
SUMMARY:Научно-исследовательская работа по организации стратегического раз
 вития
LOCATION:50 уч.к 1234
END:VEVENT
BEGIN:VEVENT
UID:vv3f@192.168.245.71:3006
SEQUENCE:0
DTSTAMP:20260425T104020Z
DTSTART:20251014T171500Z
DTEND:20251014T184500Z
SUMMARY:Научно-исследовательская работа по организации стратегического раз
 вития
LOCATION:50 уч.к 1234
END:VEVENT
BEGIN:VEVENT
UID:q21x@192.168.245.71:3006
SEQUENCE:0
DTSTAMP:20260425T104020Z
DTSTART:20251015T150000Z
DTEND:20251015T151500Z
SUMMARY:Карьерная адаптивность
LOCATION:DL Дистанционно
END:VEVENT
BEGIN:VEVENT
UID:982k@192.168.245.71:3006
SEQUENCE:0
DTSTAMP:20260425T104020Z
DTSTART:20251015T151600Z
DTEND:20251015T163000Z
SUMMARY:Научно-исследовательская работа по теме магистерской квалификацион
 нной работы
LOCATION:DL Дистанционно
END:VEVENT
BEGIN:VEVENT
UID:7mp1@192.168.245.71:3006
SEQUENCE:0
DTSTAMP:20260425T104020Z
DTSTART:20251016T150000Z
DTEND:20251016T160000Z
SUMMARY:Маркетинговые коммуникации
LOCATION:DL Дистанционно
END:VEVENT
BEGIN:VEVENT
UID:xnfy@192.168.245.71:3006
SEQUENCE:0
DTSTAMP:20260425T104020Z
DTSTART:20251016T150100Z
DTEND:20251016T160000Z
SUMMARY:Проектная практика по аналитике данных
LOCATION:DL Дистанционно
END:VEVENT
BEGIN:VEVENT
UID:t3k7@192.168.245.71:3006
SEQUENCE:0
DTSTAMP:20260425T104020Z
DTSTART:20251016T150200Z
DTEND:20251016T160000Z
SUMMARY:Ознакомительная практика
LOCATION:DL Дистанционно
END:VEVENT
END:VCALENDAR