BEGIN:VCALENDAR
VERSION:2.0
PRODID:-//spbstu.ru//ical//RU
NAME:Расписание
X-WR-CALNAME:Расписание
TIMEZONE-ID:Europe/Moscow
X-WR-TIMEZONE:Europe/Moscow
BEGIN:VEVENT
UID:sydy@192.168.245.71:3006
SEQUENCE:0
DTSTAMP:20260423T030602Z
DTSTART:20260126T110000Z
DTEND:20260126T124000Z
SUMMARY:Преддипломная практика
LOCATION:50 уч.к 1327
END:VEVENT
BEGIN:VEVENT
UID:5zev@192.168.245.71:3006
SEQUENCE:0
DTSTAMP:20260423T030602Z
DTSTART:20260126T130000Z
DTEND:20260126T144000Z
SUMMARY:Механизмы макроэкономической динамики
LOCATION:DL Дистанционно
END:VEVENT
BEGIN:VEVENT
UID:gafe@192.168.245.71:3006
SEQUENCE:0
DTSTAMP:20260423T030602Z
DTSTART:20260127T120000Z
DTEND:20260127T124500Z
SUMMARY:Практика по профилю профессиональной деятельности
LOCATION:50 уч.к 1323
END:VEVENT
BEGIN:VEVENT
UID:aedh@192.168.245.71:3006
SEQUENCE:0
DTSTAMP:20260423T030602Z
DTSTART:20260127T120100Z
DTEND:20260127T124500Z
SUMMARY:Научно-исследовательская работа по теме магистерской квалификацион
 нной работы
LOCATION:50 уч.к 1323
END:VEVENT
BEGIN:VEVENT
UID:jgid@192.168.245.71:3006
SEQUENCE:0
DTSTAMP:20260423T030602Z
DTSTART:20260127T120200Z
DTEND:20260127T124500Z
SUMMARY:Научно-исследовательская работа
LOCATION:50 уч.к 1323
END:VEVENT
BEGIN:VEVENT
UID:uvsy@192.168.245.71:3006
SEQUENCE:0
DTSTAMP:20260423T030602Z
DTSTART:20260127T130000Z
DTEND:20260127T144000Z
SUMMARY:Научно-исследовательская работа по организации стратегического раз
 вития
LOCATION:50 уч.к 1115
END:VEVENT
BEGIN:VEVENT
UID:wmun@192.168.245.71:3006
SEQUENCE:0
DTSTAMP:20260423T030602Z
DTSTART:20260127T150000Z
DTEND:20260127T164000Z
SUMMARY:Научно-исследовательская работа по теме магистерской квалификацион
 нной работы
LOCATION:50 уч.к 1115
END:VEVENT
BEGIN:VEVENT
UID:vvj2@192.168.245.71:3006
SEQUENCE:0
DTSTAMP:20260423T030602Z
DTSTART:20260127T170000Z
DTEND:20260127T184000Z
SUMMARY:Карьерная адаптивность
LOCATION:50 уч.к 1115
END:VEVENT
BEGIN:VEVENT
UID:ucve@192.168.245.71:3006
SEQUENCE:0
DTSTAMP:20260423T030602Z
DTSTART:20260128T150000Z
DTEND:20260128T164000Z
SUMMARY:Преддипломная практика
LOCATION:50 уч.к 1234
END:VEVENT
BEGIN:VEVENT
UID:622q@192.168.245.71:3006
SEQUENCE:0
DTSTAMP:20260423T030602Z
DTSTART:20260129T130000Z
DTEND:20260129T133000Z
SUMMARY:Научно-исследовательская работа по организации стратегического раз
 вития
LOCATION:50 уч.к 1331
END:VEVENT
BEGIN:VEVENT
UID:tq61@192.168.245.71:3006
SEQUENCE:0
DTSTAMP:20260423T030602Z
DTSTART:20260129T133100Z
DTEND:20260129T144000Z
SUMMARY:Научно-исследовательская работа по организации стратегического раз
 вития
LOCATION:50 уч.к 1331
END:VEVENT
BEGIN:VEVENT
UID:vmkd@192.168.245.71:3006
SEQUENCE:0
DTSTAMP:20260423T030602Z
DTSTART:20260129T150000Z
DTEND:20260129T164000Z
SUMMARY:Представление результатов научных исследований
LOCATION:50 уч.к 1422
END:VEVENT
BEGIN:VEVENT
UID:8g7c@192.168.245.71:3006
SEQUENCE:0
DTSTAMP:20260423T030602Z
DTSTART:20260129T170000Z
DTEND:20260129T184000Z
SUMMARY:Представление результатов научных исследований
LOCATION:50 уч.к 1422
END:VEVENT
BEGIN:VEVENT
UID:431p@192.168.245.71:3006
SEQUENCE:0
DTSTAMP:20260423T030602Z
DTSTART:20260130T110000Z
DTEND:20260130T120000Z
SUMMARY:Корпоративные финансы
LOCATION:50 уч.к 1325
END:VEVENT
BEGIN:VEVENT
UID:4ck7@192.168.245.71:3006
SEQUENCE:0
DTSTAMP:20260423T030602Z
DTSTART:20260130T110100Z
DTEND:20260130T120000Z
SUMMARY:Научно-исследовательская работа по организации стратегического раз
 вития
LOCATION:50 уч.к 1325
END:VEVENT
BEGIN:VEVENT
UID:78ty@192.168.245.71:3006
SEQUENCE:0
DTSTAMP:20260423T030602Z
DTSTART:20260130T110200Z
DTEND:20260130T120000Z
SUMMARY:Научно-исследовательская работа по управлению корпоративной стоимо
 стью
LOCATION:50 уч.к 1325
END:VEVENT
BEGIN:VEVENT
UID:fw5o@192.168.245.71:3006
SEQUENCE:0
DTSTAMP:20260423T030602Z
DTSTART:20260130T123000Z
DTEND:20260130T133000Z
SUMMARY:Ознакомительная практика
LOCATION:50 уч.к 1115
END:VEVENT
BEGIN:VEVENT
UID:zk7o@192.168.245.71:3006
SEQUENCE:0
DTSTAMP:20260423T030602Z
DTSTART:20260130T140000Z
DTEND:20260130T145000Z
SUMMARY:Практика по профилю профессиональной деятельности
LOCATION:50 уч.к 1424
END:VEVENT
BEGIN:VEVENT
UID:ccao@192.168.245.71:3006
SEQUENCE:0
DTSTAMP:20260423T030602Z
DTSTART:20260130T140100Z
DTEND:20260130T145000Z
SUMMARY:Преддипломная практика
LOCATION:50 уч.к 1424
END:VEVENT
BEGIN:VEVENT
UID:lzqz@192.168.245.71:3006
SEQUENCE:0
DTSTAMP:20260423T030602Z
DTSTART:20260130T140200Z
DTEND:20260130T145000Z
SUMMARY:Научно-исследовательская работа по теме магистерской квалификацион
 нной работы
LOCATION:50 уч.к 1424
END:VEVENT
BEGIN:VEVENT
UID:d6k3@192.168.245.71:3006
SEQUENCE:0
DTSTAMP:20260423T030602Z
DTSTART:20260130T140300Z
DTEND:20260130T145000Z
SUMMARY:Научно-исследовательская работа
LOCATION:50 уч.к 1424
END:VEVENT
BEGIN:VEVENT
UID:3ttb@192.168.245.71:3006
SEQUENCE:0
DTSTAMP:20260423T030602Z
DTSTART:20260130T150000Z
DTEND:20260130T164000Z
SUMMARY:Механизмы макроэкономической динамики
LOCATION:DL Дистанционно
END:VEVENT
BEGIN:VEVENT
UID:y2xw@192.168.245.71:3006
SEQUENCE:0
DTSTAMP:20260423T030602Z
DTSTART:20260130T170000Z
DTEND:20260130T184000Z
SUMMARY:Механизмы макроэкономической динамики
LOCATION:DL Дистанционно
END:VEVENT
END:VCALENDAR