BEGIN:VCALENDAR
VERSION:2.0
PRODID:-//spbstu.ru//ical//RU
NAME:Расписание
X-WR-CALNAME:Расписание
TIMEZONE-ID:Europe/Moscow
X-WR-TIMEZONE:Europe/Moscow
BEGIN:VEVENT
UID:9oyv@192.168.245.71:3006
SEQUENCE:0
DTSTAMP:20260421T135934Z
DTSTART:20260402T090000Z
DTEND:20260402T104000Z
SUMMARY:Экономическая стратегия
LOCATION:50 уч.к 1423
END:VEVENT
BEGIN:VEVENT
UID:dtrl@192.168.245.71:3006
SEQUENCE:0
DTSTAMP:20260421T135934Z
DTSTART:20260402T110000Z
DTEND:20260402T124000Z
SUMMARY:Экономическая стратегия
LOCATION:50 уч.к 1423
END:VEVENT
END:VCALENDAR