BEGIN:VCALENDAR
VERSION:2.0
PRODID:-//spbstu.ru//ical//RU
NAME:Расписание
X-WR-CALNAME:Расписание
TIMEZONE-ID:Europe/Moscow
X-WR-TIMEZONE:Europe/Moscow
BEGIN:VEVENT
UID:sd0l@192.168.245.71:3006
SEQUENCE:0
DTSTAMP:20260421T122810Z
DTSTART:20260504T110000Z
DTEND:20260504T124000Z
SUMMARY:Экономика предприятия
LOCATION:ГЗ 235
END:VEVENT
BEGIN:VEVENT
UID:ttc5@192.168.245.71:3006
SEQUENCE:0
DTSTAMP:20260421T122810Z
DTSTART:20260507T090000Z
DTEND:20260507T104000Z
SUMMARY:Экономическая стратегия
LOCATION:50 уч.к 1423
END:VEVENT
BEGIN:VEVENT
UID:nvco@192.168.245.71:3006
SEQUENCE:0
DTSTAMP:20260421T122810Z
DTSTART:20260507T110000Z
DTEND:20260507T124000Z
SUMMARY:Экономическая стратегия
LOCATION:50 уч.к 1423
END:VEVENT
END:VCALENDAR