BEGIN:VCALENDAR
VERSION:2.0
PRODID:-//spbstu.ru//ical//RU
NAME:Расписание
X-WR-CALNAME:Расписание
TIMEZONE-ID:Europe/Moscow
X-WR-TIMEZONE:Europe/Moscow
BEGIN:VEVENT
UID:nz8u@192.168.245.71:3006
SEQUENCE:0
DTSTAMP:20260423T215952Z
DTSTART:20251110T110000Z
DTEND:20251110T124000Z
SUMMARY:Технология конструкционных материалов
LOCATION:ГЗ каф.ТКМ к.4
END:VEVENT
BEGIN:VEVENT
UID:g8vl@192.168.245.71:3006
SEQUENCE:0
DTSTAMP:20260423T215952Z
DTSTART:20251110T130000Z
DTEND:20251110T144000Z
SUMMARY:Технология конструкционных материалов
LOCATION:ГЗ каф.ТКМ к.6
END:VEVENT
BEGIN:VEVENT
UID:oh9b@192.168.245.71:3006
SEQUENCE:0
DTSTAMP:20260423T215952Z
DTSTART:20251110T150000Z
DTEND:20251110T154500Z
SUMMARY:Образовательный форсайт
LOCATION:ГЗ лаб ТКМ
END:VEVENT
BEGIN:VEVENT
UID:cppq@192.168.245.71:3006
SEQUENCE:0
DTSTAMP:20260423T215952Z
DTSTART:20251111T110000Z
DTEND:20251111T124000Z
SUMMARY:Технология конструкционных материалов
LOCATION:ГЗ каф.ТКМ к.4
END:VEVENT
BEGIN:VEVENT
UID:kfox@192.168.245.71:3006
SEQUENCE:0
DTSTAMP:20260423T215952Z
DTSTART:20251111T130000Z
DTEND:20251111T144000Z
SUMMARY:Технология конструкционных материалов
LOCATION:ГЗ каф.ТКМ к.4
END:VEVENT
BEGIN:VEVENT
UID:wiug@192.168.245.71:3006
SEQUENCE:0
DTSTAMP:20260423T215952Z
DTSTART:20251111T130000Z
DTEND:20251111T150000Z
SUMMARY:Технология конструкционных материалов
LOCATION:ГЗ каф.ТКМ к.19
END:VEVENT
BEGIN:VEVENT
UID:hctc@192.168.245.71:3006
SEQUENCE:0
DTSTAMP:20260423T215952Z
DTSTART:20251111T130000Z
DTEND:20251111T150000Z
SUMMARY:Технология конструкционных материалов
LOCATION:ГЗ каф.ТКМ к.19
END:VEVENT
BEGIN:VEVENT
UID:ow7d@192.168.245.71:3006
SEQUENCE:0
DTSTAMP:20260423T215952Z
DTSTART:20251111T150000Z
DTEND:20251111T164000Z
SUMMARY:Технология конструкционных материалов
LOCATION:ГЗ каф.ТКМ к.17
END:VEVENT
BEGIN:VEVENT
UID:5hre@192.168.245.71:3006
SEQUENCE:0
DTSTAMP:20260423T215952Z
DTSTART:20251111T150000Z
DTEND:20251111T164000Z
SUMMARY:Технология конструкционных материалов
LOCATION:ГЗ каф.ТКМ к.17
END:VEVENT
BEGIN:VEVENT
UID:fj0p@192.168.245.71:3006
SEQUENCE:0
DTSTAMP:20260423T215952Z
DTSTART:20251112T090000Z
DTEND:20251112T104000Z
SUMMARY:Технология конструкционных материалов
LOCATION:ГЗ каф.ТКМ к.17
END:VEVENT
BEGIN:VEVENT
UID:u2fx@192.168.245.71:3006
SEQUENCE:0
DTSTAMP:20260423T215952Z
DTSTART:20251112T110000Z
DTEND:20251112T124000Z
SUMMARY:Технология конструкционных материалов
LOCATION:ГЗ каф.ТКМ к.6
END:VEVENT
BEGIN:VEVENT
UID:tm5r@192.168.245.71:3006
SEQUENCE:0
DTSTAMP:20260423T215952Z
DTSTART:20251114T090000Z
DTEND:20251114T104000Z
SUMMARY:Технология конструкционных материалов
LOCATION:Мех. к. БМ
END:VEVENT
BEGIN:VEVENT
UID:gocp@192.168.245.71:3006
SEQUENCE:0
DTSTAMP:20260423T215952Z
DTSTART:20251114T110000Z
DTEND:20251114T124000Z
SUMMARY:Технология конструкционных материалов
LOCATION:ГЗ каф.ТКМ к.6
END:VEVENT
END:VCALENDAR