BEGIN:VCALENDAR
VERSION:2.0
PRODID:-//spbstu.ru//ical//RU
NAME:Расписание
X-WR-CALNAME:Расписание
TIMEZONE-ID:Europe/Moscow
X-WR-TIMEZONE:Europe/Moscow
BEGIN:VEVENT
UID:dhts@192.168.245.71:3006
SEQUENCE:0
DTSTAMP:20260424T013127Z
DTSTART:20251103T110000Z
DTEND:20251103T124000Z
SUMMARY:Технология конструкционных материалов
LOCATION:ГЗ каф.ТКМ к.4
END:VEVENT
BEGIN:VEVENT
UID:weqj@192.168.245.71:3006
SEQUENCE:0
DTSTAMP:20260424T013127Z
DTSTART:20251105T090000Z
DTEND:20251105T104000Z
SUMMARY:Технология конструкционных материалов
LOCATION:ГЗ каф.ТКМ к.17
END:VEVENT
BEGIN:VEVENT
UID:fl5b@192.168.245.71:3006
SEQUENCE:0
DTSTAMP:20260424T013127Z
DTSTART:20251105T110000Z
DTEND:20251105T124000Z
SUMMARY:Технология конструкционных материалов
LOCATION:ГЗ каф.ТКМ к.6
END:VEVENT
BEGIN:VEVENT
UID:5n13@192.168.245.71:3006
SEQUENCE:0
DTSTAMP:20260424T013127Z
DTSTART:20251107T090000Z
DTEND:20251107T104000Z
SUMMARY:Технология конструкционных материалов
LOCATION:Мех. к. БМ
END:VEVENT
BEGIN:VEVENT
UID:iy7m@192.168.245.71:3006
SEQUENCE:0
DTSTAMP:20260424T013127Z
DTSTART:20251107T110000Z
DTEND:20251107T124000Z
SUMMARY:Технология конструкционных материалов
LOCATION:ГЗ каф.ТКМ к.6
END:VEVENT
BEGIN:VEVENT
UID:wpzl@192.168.245.71:3006
SEQUENCE:0
DTSTAMP:20260424T013127Z
DTSTART:20251107T130000Z
DTEND:20251107T144000Z
SUMMARY:Технология конструкционных материалов
LOCATION:ГЗ каф.ТКМ к.6
END:VEVENT
END:VCALENDAR