BEGIN:VCALENDAR
VERSION:2.0
PRODID:-//spbstu.ru//ical//RU
NAME:Расписание
X-WR-CALNAME:Расписание
TIMEZONE-ID:Europe/Moscow
X-WR-TIMEZONE:Europe/Moscow
BEGIN:VEVENT
UID:80bo@192.168.245.71:3006
SEQUENCE:0
DTSTAMP:20260422T113707Z
DTSTART:20260204T070000Z
DTEND:20260204T084000Z
SUMMARY:Технология конструкционных материалов
LOCATION:ГЗ каф.ТКМ к.6
END:VEVENT
BEGIN:VEVENT
UID:1qzl@192.168.245.71:3006
SEQUENCE:0
DTSTAMP:20260422T113707Z
DTSTART:20260204T090000Z
DTEND:20260204T104000Z
SUMMARY:Технология конструкционных материалов
LOCATION:ГЗ каф.ТКМ к.6
END:VEVENT
BEGIN:VEVENT
UID:46c6@192.168.245.71:3006
SEQUENCE:0
DTSTAMP:20260422T113707Z
DTSTART:20260205T090000Z
DTEND:20260205T104000Z
SUMMARY:Технология конструкционных материалов
LOCATION:ГЗ каф.ТКМ к.4
END:VEVENT
BEGIN:VEVENT
UID:mrp5@192.168.245.71:3006
SEQUENCE:0
DTSTAMP:20260422T113707Z
DTSTART:20260206T090000Z
DTEND:20260206T104000Z
SUMMARY:Технология конструкционных материалов
LOCATION:ГЗ каф.ТКМ к.6
END:VEVENT
END:VCALENDAR