BEGIN:VCALENDAR
VERSION:2.0
PRODID:-//spbstu.ru//ical//RU
NAME:Расписание
X-WR-CALNAME:Расписание
TIMEZONE-ID:Europe/Moscow
X-WR-TIMEZONE:Europe/Moscow
BEGIN:VEVENT
UID:pc1e@192.168.245.71:3006
SEQUENCE:0
DTSTAMP:20260421T141614Z
DTSTART:20260318T070000Z
DTEND:20260318T084000Z
SUMMARY:Технология конструкционных материалов
LOCATION:ГЗ каф.ТКМ к.6
END:VEVENT
BEGIN:VEVENT
UID:7by4@192.168.245.71:3006
SEQUENCE:0
DTSTAMP:20260421T141614Z
DTSTART:20260318T090000Z
DTEND:20260318T104000Z
SUMMARY:Технология конструкционных материалов
LOCATION:ГЗ каф.ТКМ к.6
END:VEVENT
BEGIN:VEVENT
UID:nozs@192.168.245.71:3006
SEQUENCE:0
DTSTAMP:20260421T141614Z
DTSTART:20260319T090000Z
DTEND:20260319T104000Z
SUMMARY:Технология конструкционных материалов
LOCATION:ГЗ каф.ТКМ к.4
END:VEVENT
BEGIN:VEVENT
UID:uex3@192.168.245.71:3006
SEQUENCE:0
DTSTAMP:20260421T141614Z
DTSTART:20260320T090000Z
DTEND:20260320T104000Z
SUMMARY:Технология конструкционных материалов
LOCATION:ГЗ каф.ТКМ к.6
END:VEVENT
END:VCALENDAR