BEGIN:VCALENDAR
VERSION:2.0
PRODID:-//spbstu.ru//ical//RU
NAME:Расписание
X-WR-CALNAME:Расписание
TIMEZONE-ID:Europe/Moscow
X-WR-TIMEZONE:Europe/Moscow
BEGIN:VEVENT
UID:j226@192.168.245.71:3006
SEQUENCE:0
DTSTAMP:20260421T122951Z
DTSTART:20260518T110000Z
DTEND:20260518T124000Z
SUMMARY:Технология конструкционных материалов
LOCATION:ГЗ каф.ТКМ к.6
END:VEVENT
BEGIN:VEVENT
UID:z1dg@192.168.245.71:3006
SEQUENCE:0
DTSTAMP:20260421T122951Z
DTSTART:20260518T130000Z
DTEND:20260518T144000Z
SUMMARY:Технология конструкционных материалов
LOCATION:ГЗ каф.ТКМ к.6
END:VEVENT
BEGIN:VEVENT
UID:xdfe@192.168.245.71:3006
SEQUENCE:0
DTSTAMP:20260421T122951Z
DTSTART:20260518T170000Z
DTEND:20260518T184000Z
SUMMARY:Технология конструкционных материалов
LOCATION:ГЗ каф.ТКМ к.6
END:VEVENT
BEGIN:VEVENT
UID:nnbu@192.168.245.71:3006
SEQUENCE:0
DTSTAMP:20260421T122951Z
DTSTART:20260518T170000Z
DTEND:20260518T184000Z
SUMMARY:Технология конструкционных материалов
LOCATION:ГЗ каф.ТКМ к.6
END:VEVENT
BEGIN:VEVENT
UID:ch2b@192.168.245.71:3006
SEQUENCE:0
DTSTAMP:20260421T122951Z
DTSTART:20260520T110000Z
DTEND:20260520T124000Z
SUMMARY:Технология конструкционных материалов
LOCATION:ГЗ каф.ТКМ к.6
END:VEVENT
END:VCALENDAR