BEGIN:VCALENDAR
VERSION:2.0
PRODID:-//spbstu.ru//ical//RU
NAME:Расписание
X-WR-CALNAME:Расписание
TIMEZONE-ID:Europe/Moscow
X-WR-TIMEZONE:Europe/Moscow
BEGIN:VEVENT
UID:kny8@192.168.245.71:3006
SEQUENCE:0
DTSTAMP:20260424T144059Z
DTSTART:20251027T090000Z
DTEND:20251027T104000Z
SUMMARY:Применение методов искусственного интеллекта для цифровой обработк
 и сигналов
LOCATION:3 к. 217
END:VEVENT
BEGIN:VEVENT
UID:h5l5@192.168.245.71:3006
SEQUENCE:0
DTSTAMP:20260424T144059Z
DTSTART:20251030T070000Z
DTEND:20251030T084000Z
SUMMARY:Применение методов искусственного интеллекта для цифровой обработк
 и сигналов
LOCATION:3 к. 214
END:VEVENT
BEGIN:VEVENT
UID:tuc7@192.168.245.71:3006
SEQUENCE:0
DTSTAMP:20260424T144059Z
DTSTART:20251030T090000Z
DTEND:20251030T104000Z
SUMMARY:Применение методов искусственного интеллекта для цифровой обработк
 и сигналов
LOCATION:3 к. 217
END:VEVENT
END:VCALENDAR