BEGIN:VCALENDAR
VERSION:2.0
PRODID:-//spbstu.ru//ical//RU
NAME:Расписание
X-WR-CALNAME:Расписание
TIMEZONE-ID:Europe/Moscow
X-WR-TIMEZONE:Europe/Moscow
BEGIN:VEVENT
UID:o2va@192.168.245.71:3006
SEQUENCE:0
DTSTAMP:20260424T013325Z
DTSTART:20251120T070000Z
DTEND:20251120T084000Z
SUMMARY:Применение методов искусственного интеллекта для цифровой обработк
 и сигналов
LOCATION:3 к. 201
END:VEVENT
BEGIN:VEVENT
UID:g3y4@192.168.245.71:3006
SEQUENCE:0
DTSTAMP:20260424T013325Z
DTSTART:20251120T110000Z
DTEND:20251120T124000Z
SUMMARY:Применение методов искусственного интеллекта для цифровой обработк
 и сигналов
LOCATION:3 к. 217
END:VEVENT
END:VCALENDAR