BEGIN:VCALENDAR
VERSION:2.0
PRODID:-//spbstu.ru//ical//RU
NAME:Расписание
X-WR-CALNAME:Расписание
TIMEZONE-ID:Europe/Moscow
X-WR-TIMEZONE:Europe/Moscow
BEGIN:VEVENT
UID:q2kv@192.168.245.71:3006
SEQUENCE:0
DTSTAMP:20260425T230812Z
DTSTART:20260217T090000Z
DTEND:20260217T104000Z
SUMMARY:Элементная база волоконно-оптических  систем
LOCATION:2 к. 213
END:VEVENT
BEGIN:VEVENT
UID:r6qo@192.168.245.71:3006
SEQUENCE:0
DTSTAMP:20260425T230812Z
DTSTART:20260218T070000Z
DTEND:20260218T084000Z
SUMMARY:Оптические телекоммуникационные устройства
LOCATION:2 к. 346
END:VEVENT
BEGIN:VEVENT
UID:r2nd@192.168.245.71:3006
SEQUENCE:0
DTSTAMP:20260425T230812Z
DTSTART:20260218T110000Z
DTEND:20260218T143000Z
SUMMARY:Оптические телекоммуникационные устройства
LOCATION:2 к. 335
END:VEVENT
BEGIN:VEVENT
UID:1l7c@192.168.245.71:3006
SEQUENCE:0
DTSTAMP:20260425T230812Z
DTSTART:20260219T070000Z
DTEND:20260219T084000Z
SUMMARY:Элементная база волоконно-оптических  систем
LOCATION:2 к. 352
END:VEVENT
BEGIN:VEVENT
UID:kghm@192.168.245.71:3006
SEQUENCE:0
DTSTAMP:20260425T230812Z
DTSTART:20260220T130000Z
DTEND:20260220T144000Z
SUMMARY:Лабораторный практикум по радиоэлектронике
LOCATION:2 к. 335
END:VEVENT
BEGIN:VEVENT
UID:yxev@192.168.245.71:3006
SEQUENCE:0
DTSTAMP:20260425T230812Z
DTSTART:20260220T150000Z
DTEND:20260220T164000Z
SUMMARY:Лабораторный практикум по радиоэлектронике
LOCATION:2 к. 335
END:VEVENT
END:VCALENDAR