BEGIN:VCALENDAR
VERSION:2.0
PRODID:-//spbstu.ru//ical//RU
NAME:Расписание
X-WR-CALNAME:Расписание
TIMEZONE-ID:Europe/Moscow
X-WR-TIMEZONE:Europe/Moscow
BEGIN:VEVENT
UID:cbf0@192.168.245.71:3006
SEQUENCE:0
DTSTAMP:20260423T072136Z
DTSTART:20251218T070000Z
DTEND:20251218T100000Z
SUMMARY:Основы информационной безопасности
LOCATION:2 к. 359
END:VEVENT
BEGIN:VEVENT
UID:v7g1@192.168.245.71:3006
SEQUENCE:0
DTSTAMP:20260423T072136Z
DTSTART:20251218T100000Z
DTEND:20251218T130000Z
SUMMARY:Основы информационной безопасности
LOCATION:2 к. 359
END:VEVENT
BEGIN:VEVENT
UID:2tod@192.168.245.71:3006
SEQUENCE:0
DTSTAMP:20260423T072136Z
DTSTART:20251219T070000Z
DTEND:20251219T100000Z
SUMMARY:Основы информационной безопасности
LOCATION:2 к. 454
END:VEVENT
END:VCALENDAR