BEGIN:VCALENDAR
VERSION:2.0
PRODID:-//spbstu.ru//ical//RU
NAME:Расписание
X-WR-CALNAME:Расписание
TIMEZONE-ID:Europe/Moscow
X-WR-TIMEZONE:Europe/Moscow
BEGIN:VEVENT
UID:chvh@192.168.245.71:3006
SEQUENCE:0
DTSTAMP:20260422T045638Z
DTSTART:20260316T110000Z
DTEND:20260316T124000Z
SUMMARY:Обработка и анализ оптических наблюдений
LOCATION:2 к. каф. КИ
END:VEVENT
BEGIN:VEVENT
UID:1t4g@192.168.245.71:3006
SEQUENCE:0
DTSTAMP:20260422T045638Z
DTSTART:20260316T130000Z
DTEND:20260316T144000Z
SUMMARY:Обработка и анализ оптических наблюдений
LOCATION:2 к. каф. КИ
END:VEVENT
BEGIN:VEVENT
UID:9hss@192.168.245.71:3006
SEQUENCE:0
DTSTAMP:20260422T045638Z
DTSTART:20260320T110000Z
DTEND:20260320T124000Z
SUMMARY:Основы наблюдательной астрофизики
LOCATION:2 к. каф. КИ
END:VEVENT
BEGIN:VEVENT
UID:7eap@192.168.245.71:3006
SEQUENCE:0
DTSTAMP:20260422T045638Z
DTSTART:20260320T130000Z
DTEND:20260320T144000Z
SUMMARY:Основы наблюдательной астрофизики
LOCATION:2 к. каф. КИ
END:VEVENT
END:VCALENDAR