BEGIN:VCALENDAR
VERSION:2.0
PRODID:-//spbstu.ru//ical//RU
NAME:Расписание
X-WR-CALNAME:Расписание
TIMEZONE-ID:Europe/Moscow
X-WR-TIMEZONE:Europe/Moscow
BEGIN:VEVENT
UID:44te@192.168.245.71:3006
SEQUENCE:0
DTSTAMP:20260424T061144Z
DTSTART:20251110T090000Z
DTEND:20251110T104000Z
SUMMARY:Синергетика
LOCATION:5 к. 411
END:VEVENT
BEGIN:VEVENT
UID:6xl4@192.168.245.71:3006
SEQUENCE:0
DTSTAMP:20260424T061144Z
DTSTART:20251110T110000Z
DTEND:20251110T124000Z
SUMMARY:Статистическая физика
LOCATION:5 к. 411
END:VEVENT
BEGIN:VEVENT
UID:2fyh@192.168.245.71:3006
SEQUENCE:0
DTSTAMP:20260424T061144Z
DTSTART:20251110T130000Z
DTEND:20251110T144000Z
SUMMARY:Статистическая физика
LOCATION:5 к. 411
END:VEVENT
BEGIN:VEVENT
UID:zeg7@192.168.245.71:3006
SEQUENCE:0
DTSTAMP:20260424T061144Z
DTSTART:20251110T150000Z
DTEND:20251110T163000Z
SUMMARY:Математическая физика
LOCATION:2 к. 331
END:VEVENT
BEGIN:VEVENT
UID:3ms8@192.168.245.71:3006
SEQUENCE:0
DTSTAMP:20260424T061144Z
DTSTART:20251111T090000Z
DTEND:20251111T104000Z
SUMMARY:Основы теоретической физики
LOCATION:ГЗ 220
END:VEVENT
BEGIN:VEVENT
UID:4wo9@192.168.245.71:3006
SEQUENCE:0
DTSTAMP:20260424T061144Z
DTSTART:20251115T060000Z
DTEND:20251115T065000Z
SUMMARY:Математическая физика
LOCATION:2 к. 265
END:VEVENT
BEGIN:VEVENT
UID:1geu@192.168.245.71:3006
SEQUENCE:0
DTSTAMP:20260424T061144Z
DTSTART:20251115T070000Z
DTEND:20251115T084000Z
SUMMARY:Математическая физика
LOCATION:2 к. 265
END:VEVENT
BEGIN:VEVENT
UID:x5wq@192.168.245.71:3006
SEQUENCE:0
DTSTAMP:20260424T061144Z
DTSTART:20251115T090000Z
DTEND:20251115T104000Z
SUMMARY:Математическая физика
LOCATION:2 к. 265
END:VEVENT
BEGIN:VEVENT
UID:fz23@192.168.245.71:3006
SEQUENCE:0
DTSTAMP:20260424T061144Z
DTSTART:20251115T110000Z
DTEND:20251115T124000Z
SUMMARY:Математическая физика
LOCATION:2 к. 330
END:VEVENT
BEGIN:VEVENT
UID:6bnx@192.168.245.71:3006
SEQUENCE:0
DTSTAMP:20260424T061144Z
DTSTART:20251115T130000Z
DTEND:20251115T135000Z
SUMMARY:Математическая физика
LOCATION:2 к. 330
END:VEVENT
END:VCALENDAR