BEGIN:VCALENDAR
VERSION:2.0
PRODID:-//spbstu.ru//ical//RU
NAME:Расписание
X-WR-CALNAME:Расписание
TIMEZONE-ID:Europe/Moscow
X-WR-TIMEZONE:Europe/Moscow
BEGIN:VEVENT
UID:1nft@192.168.245.71:3006
SEQUENCE:0
DTSTAMP:20260422T234242Z
DTSTART:20260119T070000Z
DTEND:20260119T083000Z
SUMMARY:Математическая физика
LOCATION:2 к. 330
END:VEVENT
BEGIN:VEVENT
UID:vmxt@192.168.245.71:3006
SEQUENCE:0
DTSTAMP:20260422T234242Z
DTSTART:20260120T070000Z
DTEND:20260120T130000Z
SUMMARY:Математическая физика
LOCATION:2 к. 330
END:VEVENT
END:VCALENDAR