BEGIN:VCALENDAR
VERSION:2.0
PRODID:-//spbstu.ru//ical//RU
NAME:Расписание
X-WR-CALNAME:Расписание
TIMEZONE-ID:Europe/Moscow
X-WR-TIMEZONE:Europe/Moscow
BEGIN:VEVENT
UID:k96d@192.168.245.71:3006
SEQUENCE:0
DTSTAMP:20260423T225106Z
DTSTART:20251020T090000Z
DTEND:20251020T104000Z
SUMMARY:Электронные приборы
LOCATION:2 к. 445
END:VEVENT
BEGIN:VEVENT
UID:148p@192.168.245.71:3006
SEQUENCE:0
DTSTAMP:20260423T225106Z
DTSTART:20251020T130000Z
DTEND:20251020T144000Z
SUMMARY:Электроника
LOCATION:2 к. 445
END:VEVENT
BEGIN:VEVENT
UID:a8uh@192.168.245.71:3006
SEQUENCE:0
DTSTAMP:20260423T225106Z
DTSTART:20251021T070000Z
DTEND:20251021T084000Z
SUMMARY:Источники синхротронного и нейтронного излучения
LOCATION:2 к. 411
END:VEVENT
BEGIN:VEVENT
UID:comj@192.168.245.71:3006
SEQUENCE:0
DTSTAMP:20260423T225106Z
DTSTART:20251022T090000Z
DTEND:20251022T104000Z
SUMMARY:Ядерно-физические методы в физике твердого тела
LOCATION:2 к. 411
END:VEVENT
BEGIN:VEVENT
UID:4e93@192.168.245.71:3006
SEQUENCE:0
DTSTAMP:20260423T225106Z
DTSTART:20251022T110000Z
DTEND:20251022T124000Z
SUMMARY:Физические основы электроники
LOCATION:2 к. 445
END:VEVENT
END:VCALENDAR