BEGIN:VCALENDAR
VERSION:2.0
PRODID:-//spbstu.ru//ical//RU
NAME:Расписание
X-WR-CALNAME:Расписание
TIMEZONE-ID:Europe/Moscow
X-WR-TIMEZONE:Europe/Moscow
BEGIN:VEVENT
UID:n4bf@192.168.245.71:3006
SEQUENCE:0
DTSTAMP:20260423T175710Z
DTSTART:20251027T090000Z
DTEND:20251027T104000Z
SUMMARY:Электронные приборы
LOCATION:2 к. 445
END:VEVENT
BEGIN:VEVENT
UID:e12f@192.168.245.71:3006
SEQUENCE:0
DTSTAMP:20260423T175710Z
DTSTART:20251027T130000Z
DTEND:20251027T144000Z
SUMMARY:Электроника
LOCATION:2 к. 445
END:VEVENT
BEGIN:VEVENT
UID:c8z9@192.168.245.71:3006
SEQUENCE:0
DTSTAMP:20260423T175710Z
DTSTART:20251028T070000Z
DTEND:20251028T084000Z
SUMMARY:Источники синхротронного и нейтронного излучения
LOCATION:2 к. 411
END:VEVENT
BEGIN:VEVENT
UID:lnv8@192.168.245.71:3006
SEQUENCE:0
DTSTAMP:20260423T175710Z
DTSTART:20251029T090000Z
DTEND:20251029T104000Z
SUMMARY:Ядерно-физические методы в физике твердого тела
LOCATION:2 к. 411
END:VEVENT
BEGIN:VEVENT
UID:siue@192.168.245.71:3006
SEQUENCE:0
DTSTAMP:20260423T175710Z
DTSTART:20251029T110000Z
DTEND:20251029T124000Z
SUMMARY:Физические основы электроники
LOCATION:2 к. 445
END:VEVENT
END:VCALENDAR