BEGIN:VCALENDAR
VERSION:2.0
PRODID:-//spbstu.ru//ical//RU
NAME:Расписание
X-WR-CALNAME:Расписание
TIMEZONE-ID:Europe/Moscow
X-WR-TIMEZONE:Europe/Moscow
BEGIN:VEVENT
UID:jkex@192.168.245.71:3006
SEQUENCE:0
DTSTAMP:20260424T061208Z
DTSTART:20251006T090000Z
DTEND:20251006T104000Z
SUMMARY:Электронные приборы
LOCATION:2 к. 445
END:VEVENT
BEGIN:VEVENT
UID:w5dp@192.168.245.71:3006
SEQUENCE:0
DTSTAMP:20260424T061208Z
DTSTART:20251006T130000Z
DTEND:20251006T144000Z
SUMMARY:Электроника
LOCATION:2 к. 445
END:VEVENT
BEGIN:VEVENT
UID:lguf@192.168.245.71:3006
SEQUENCE:0
DTSTAMP:20260424T061208Z
DTSTART:20251007T070000Z
DTEND:20251007T084000Z
SUMMARY:Источники синхротронного и нейтронного излучения
LOCATION:2 к. 411
END:VEVENT
BEGIN:VEVENT
UID:ypbq@192.168.245.71:3006
SEQUENCE:0
DTSTAMP:20260424T061208Z
DTSTART:20251008T090000Z
DTEND:20251008T104000Z
SUMMARY:Ядерно-физические методы в физике твердого тела
LOCATION:2 к. 411
END:VEVENT
BEGIN:VEVENT
UID:v2my@192.168.245.71:3006
SEQUENCE:0
DTSTAMP:20260424T061208Z
DTSTART:20251008T110000Z
DTEND:20251008T124000Z
SUMMARY:Физические основы электроники
LOCATION:2 к. 445
END:VEVENT
END:VCALENDAR