BEGIN:VCALENDAR
VERSION:2.0
PRODID:-//spbstu.ru//ical//RU
NAME:Расписание
X-WR-CALNAME:Расписание
TIMEZONE-ID:Europe/Moscow
X-WR-TIMEZONE:Europe/Moscow
BEGIN:VEVENT
UID:9w76@192.168.245.71:3006
SEQUENCE:0
DTSTAMP:20260423T144950Z
DTSTART:20251103T090000Z
DTEND:20251103T104000Z
SUMMARY:Электронные приборы
LOCATION:2 к. 445
END:VEVENT
BEGIN:VEVENT
UID:83u3@192.168.245.71:3006
SEQUENCE:0
DTSTAMP:20260423T144950Z
DTSTART:20251103T130000Z
DTEND:20251103T144000Z
SUMMARY:Электроника
LOCATION:2 к. 445
END:VEVENT
BEGIN:VEVENT
UID:ohl2@192.168.245.71:3006
SEQUENCE:0
DTSTAMP:20260423T144950Z
DTSTART:20251105T090000Z
DTEND:20251105T104000Z
SUMMARY:Ядерно-физические методы в физике твердого тела
LOCATION:2 к. 411
END:VEVENT
BEGIN:VEVENT
UID:r1p0@192.168.245.71:3006
SEQUENCE:0
DTSTAMP:20260423T144950Z
DTSTART:20251105T110000Z
DTEND:20251105T124000Z
SUMMARY:Физические основы электроники
LOCATION:2 к. 445
END:VEVENT
END:VCALENDAR