BEGIN:VCALENDAR
VERSION:2.0
PRODID:-//spbstu.ru//ical//RU
NAME:Расписание
X-WR-CALNAME:Расписание
TIMEZONE-ID:Europe/Moscow
X-WR-TIMEZONE:Europe/Moscow
BEGIN:VEVENT
UID:shqh@192.168.245.71:3006
SEQUENCE:0
DTSTAMP:20260423T150833Z
DTSTART:20251201T090000Z
DTEND:20251201T104000Z
SUMMARY:Электронные приборы
LOCATION:2 к. 445
END:VEVENT
BEGIN:VEVENT
UID:i26g@192.168.245.71:3006
SEQUENCE:0
DTSTAMP:20260423T150833Z
DTSTART:20251201T130000Z
DTEND:20251201T144000Z
SUMMARY:Электроника
LOCATION:2 к. 445
END:VEVENT
BEGIN:VEVENT
UID:e34b@192.168.245.71:3006
SEQUENCE:0
DTSTAMP:20260423T150833Z
DTSTART:20251202T070000Z
DTEND:20251202T084000Z
SUMMARY:Источники синхротронного и нейтронного излучения
LOCATION:2 к. 411
END:VEVENT
BEGIN:VEVENT
UID:ar75@192.168.245.71:3006
SEQUENCE:0
DTSTAMP:20260423T150833Z
DTSTART:20251203T090000Z
DTEND:20251203T104000Z
SUMMARY:Ядерно-физические методы в физике твердого тела
LOCATION:2 к. 411
END:VEVENT
BEGIN:VEVENT
UID:78wn@192.168.245.71:3006
SEQUENCE:0
DTSTAMP:20260423T150833Z
DTSTART:20251203T110000Z
DTEND:20251203T124000Z
SUMMARY:Физические основы электроники
LOCATION:2 к. 445
END:VEVENT
END:VCALENDAR