BEGIN:VCALENDAR
VERSION:2.0
PRODID:-//spbstu.ru//ical//RU
NAME:Расписание
X-WR-CALNAME:Расписание
TIMEZONE-ID:Europe/Moscow
X-WR-TIMEZONE:Europe/Moscow
BEGIN:VEVENT
UID:1um9@192.168.245.71:3006
SEQUENCE:0
DTSTAMP:20260423T062801Z
DTSTART:20251112T050000Z
DTEND:20251112T084000Z
SUMMARY:Физическая химия
LOCATION:Хим. к. 3
END:VEVENT
BEGIN:VEVENT
UID:6yxp@192.168.245.71:3006
SEQUENCE:0
DTSTAMP:20260423T062801Z
DTSTART:20251114T070000Z
DTEND:20251114T104000Z
SUMMARY:Физическая химия
LOCATION:Хим. к. 3
END:VEVENT
BEGIN:VEVENT
UID:0d7l@192.168.245.71:3006
SEQUENCE:0
DTSTAMP:20260423T062801Z
DTSTART:20251114T110000Z
DTEND:20251114T144000Z
SUMMARY:Физическая химия
LOCATION:Хим. к. 3
END:VEVENT
END:VCALENDAR