BEGIN:VCALENDAR
VERSION:2.0
PRODID:-//spbstu.ru//ical//RU
NAME:Расписание
X-WR-CALNAME:Расписание
TIMEZONE-ID:Europe/Moscow
X-WR-TIMEZONE:Europe/Moscow
BEGIN:VEVENT
UID:f4rs@192.168.245.71:3006
SEQUENCE:0
DTSTAMP:20260424T144830Z
DTSTART:20250908T070000Z
DTEND:20250908T084000Z
SUMMARY:Прикладная термодинамика и кинетика
LOCATION:Хим. к. 3
END:VEVENT
BEGIN:VEVENT
UID:00qd@192.168.245.71:3006
SEQUENCE:0
DTSTAMP:20260424T144830Z
DTSTART:20250908T090000Z
DTEND:20250908T104000Z
SUMMARY:Прикладная термодинамика и кинетика
LOCATION:Хим. к. 3
END:VEVENT
BEGIN:VEVENT
UID:fm2g@192.168.245.71:3006
SEQUENCE:0
DTSTAMP:20260424T144830Z
DTSTART:20250908T110000Z
DTEND:20250908T124000Z
SUMMARY:Прикладная термодинамика и кинетика
LOCATION:Хим. к. 3
END:VEVENT
BEGIN:VEVENT
UID:qc9u@192.168.245.71:3006
SEQUENCE:0
DTSTAMP:20260424T144830Z
DTSTART:20250909T050000Z
DTEND:20250909T084000Z
SUMMARY:Физическая химия
LOCATION:Хим. к. 3
END:VEVENT
BEGIN:VEVENT
UID:a5uy@192.168.245.71:3006
SEQUENCE:0
DTSTAMP:20260424T144830Z
DTSTART:20250910T050000Z
DTEND:20250910T084000Z
SUMMARY:Физическая химия
LOCATION:Хим. к. 3
END:VEVENT
BEGIN:VEVENT
UID:g13m@192.168.245.71:3006
SEQUENCE:0
DTSTAMP:20260424T144830Z
DTSTART:20250912T070000Z
DTEND:20250912T104000Z
SUMMARY:Физическая химия
LOCATION:Хим. к. 3
END:VEVENT
BEGIN:VEVENT
UID:psff@192.168.245.71:3006
SEQUENCE:0
DTSTAMP:20260424T144830Z
DTSTART:20250912T110000Z
DTEND:20250912T142000Z
SUMMARY:Физическая химия
LOCATION:Хим. к. 3
END:VEVENT
END:VCALENDAR