BEGIN:VCALENDAR
VERSION:2.0
PRODID:-//spbstu.ru//ical//RU
NAME:Расписание
X-WR-CALNAME:Расписание
TIMEZONE-ID:Europe/Moscow
X-WR-TIMEZONE:Europe/Moscow
BEGIN:VEVENT
UID:7kh7@192.168.245.71:3006
SEQUENCE:0
DTSTAMP:20260421T233052Z
DTSTART:20260303T110000Z
DTEND:20260303T140000Z
SUMMARY:Физическая химия
LOCATION:Хим. к. 3
END:VEVENT
BEGIN:VEVENT
UID:vlej@192.168.245.71:3006
SEQUENCE:0
DTSTAMP:20260421T233052Z
DTSTART:20260305T110000Z
DTEND:20260305T140000Z
SUMMARY:Методы элементного анализа веществ
LOCATION:Хим. к. 3
END:VEVENT
END:VCALENDAR