BEGIN:VCALENDAR
VERSION:2.0
PRODID:-//spbstu.ru//ical//RU
NAME:Расписание
X-WR-CALNAME:Расписание
TIMEZONE-ID:Europe/Moscow
X-WR-TIMEZONE:Europe/Moscow
BEGIN:VEVENT
UID:tzkc@192.168.245.71:3006
SEQUENCE:0
DTSTAMP:20260421T155209Z
DTSTART:20260324T090000Z
DTEND:20260324T104000Z
SUMMARY:ГТС низконапорных гидроузлов
LOCATION:ГК-2 502
END:VEVENT
BEGIN:VEVENT
UID:d4sl@192.168.245.71:3006
SEQUENCE:0
DTSTAMP:20260421T155209Z
DTSTART:20260326T110000Z
DTEND:20260326T124000Z
SUMMARY:Речные ГТС
LOCATION:ГК-2 502
END:VEVENT
BEGIN:VEVENT
UID:cpef@192.168.245.71:3006
SEQUENCE:0
DTSTAMP:20260421T155209Z
DTSTART:20260326T130000Z
DTEND:20260326T144000Z
SUMMARY:Речные ГТС
LOCATION:ГК-2 502
END:VEVENT
BEGIN:VEVENT
UID:0o3w@192.168.245.71:3006
SEQUENCE:0
DTSTAMP:20260421T155209Z
DTSTART:20260326T150000Z
DTEND:20260326T164000Z
SUMMARY:Водосбросные сооружения водохранилищных гидроузлов
LOCATION:ГК-2 502
END:VEVENT
END:VCALENDAR