BEGIN:VCALENDAR
VERSION:2.0
PRODID:-//spbstu.ru//ical//RU
NAME:Расписание
X-WR-CALNAME:Расписание
TIMEZONE-ID:Europe/Moscow
X-WR-TIMEZONE:Europe/Moscow
BEGIN:VEVENT
UID:3dz2@192.168.245.71:3006
SEQUENCE:0
DTSTAMP:20260421T182306Z
DTSTART:20260512T090000Z
DTEND:20260512T104000Z
SUMMARY:ГТС низконапорных гидроузлов
LOCATION:ГК-2 502
END:VEVENT
BEGIN:VEVENT
UID:qucv@192.168.245.71:3006
SEQUENCE:0
DTSTAMP:20260421T182306Z
DTSTART:20260515T090000Z
DTEND:20260515T140000Z
SUMMARY:Речные ГТС
LOCATION:ГК-2 509
END:VEVENT
BEGIN:VEVENT
UID:169r@192.168.245.71:3006
SEQUENCE:0
DTSTAMP:20260421T182306Z
DTSTART:20260516T090000Z
DTEND:20260516T104000Z
SUMMARY:Речные ГТС
LOCATION:ГК-2 503
END:VEVENT
END:VCALENDAR