BEGIN:VCALENDAR
VERSION:2.0
PRODID:-//spbstu.ru//ical//RU
NAME:Расписание
X-WR-CALNAME:Расписание
TIMEZONE-ID:Europe/Moscow
X-WR-TIMEZONE:Europe/Moscow
BEGIN:VEVENT
UID:qrd3@192.168.245.71:3006
SEQUENCE:0
DTSTAMP:20260426T022602Z
DTSTART:20251013T150000Z
DTEND:20251013T164000Z
SUMMARY:Теория горения и взрыва
LOCATION:ГК 316
END:VEVENT
BEGIN:VEVENT
UID:wtad@192.168.245.71:3006
SEQUENCE:0
DTSTAMP:20260426T022602Z
DTSTART:20251014T150000Z
DTEND:20251014T164000Z
SUMMARY:Теория горения и взрыва
LOCATION:ГК 316
END:VEVENT
BEGIN:VEVENT
UID:r03w@192.168.245.71:3006
SEQUENCE:0
DTSTAMP:20260426T022602Z
DTSTART:20251015T150000Z
DTEND:20251015T164000Z
SUMMARY:Теория горения и взрыва
LOCATION:ГК 316
END:VEVENT
END:VCALENDAR