BEGIN:VCALENDAR
VERSION:2.0
PRODID:-//spbstu.ru//ical//RU
NAME:Расписание
X-WR-CALNAME:Расписание
TIMEZONE-ID:Europe/Moscow
X-WR-TIMEZONE:Europe/Moscow
BEGIN:VEVENT
UID:yu9p@192.168.245.71:3006
SEQUENCE:0
DTSTAMP:20260424T003940Z
DTSTART:20251117T050000Z
DTEND:20251117T064000Z
SUMMARY:Обследование зданий и сооружений
LOCATION:ГК-2 407
END:VEVENT
BEGIN:VEVENT
UID:ms2a@192.168.245.71:3006
SEQUENCE:0
DTSTAMP:20260424T003940Z
DTSTART:20251117T070000Z
DTEND:20251117T084000Z
SUMMARY:Физически нелинейные расчеты строительных конструкций
LOCATION:ГК-2 514
END:VEVENT
BEGIN:VEVENT
UID:jcey@192.168.245.71:3006
SEQUENCE:0
DTSTAMP:20260424T003940Z
DTSTART:20251117T090000Z
DTEND:20251117T104000Z
SUMMARY:Реконструкция зданий и сооружений
LOCATION:ГК-2 401
END:VEVENT
BEGIN:VEVENT
UID:8jfy@192.168.245.71:3006
SEQUENCE:0
DTSTAMP:20260424T003940Z
DTSTART:20251117T110000Z
DTEND:20251117T124000Z
SUMMARY:Физически нелинейные расчеты строительных конструкций
LOCATION:ГК-2 506
END:VEVENT
BEGIN:VEVENT
UID:qu3d@192.168.245.71:3006
SEQUENCE:0
DTSTAMP:20260424T003940Z
DTSTART:20251121T050000Z
DTEND:20251121T064000Z
SUMMARY:Комплексные исследования строительных конструкций зданий старой го
 родской застройки
LOCATION:ГК-2 504
END:VEVENT
BEGIN:VEVENT
UID:g4d3@192.168.245.71:3006
SEQUENCE:0
DTSTAMP:20260424T003940Z
DTSTART:20251121T070000Z
DTEND:20251121T084000Z
SUMMARY:Проектирование большепролетных сооружений
LOCATION:ГК-2 512
END:VEVENT
BEGIN:VEVENT
UID:unhi@192.168.245.71:3006
SEQUENCE:0
DTSTAMP:20260424T003940Z
DTSTART:20251121T090000Z
DTEND:20251121T104000Z
SUMMARY:Обследование зданий и сооружений
LOCATION:ГК-2 514
END:VEVENT
BEGIN:VEVENT
UID:hulm@192.168.245.71:3006
SEQUENCE:0
DTSTAMP:20260424T003940Z
DTSTART:20251121T110000Z
DTEND:20251121T124000Z
SUMMARY:Реконструкция зданий и сооружений
LOCATION:ГК-2 405
END:VEVENT
END:VCALENDAR