BEGIN:VCALENDAR
VERSION:2.0
PRODID:-//spbstu.ru//ical//RU
NAME:Расписание
X-WR-CALNAME:Расписание
TIMEZONE-ID:Europe/Moscow
X-WR-TIMEZONE:Europe/Moscow
BEGIN:VEVENT
UID:pr5b@192.168.245.71:3006
SEQUENCE:0
DTSTAMP:20260425T222533Z
DTSTART:20251110T070000Z
DTEND:20251110T084000Z
SUMMARY:Системы реального времени
LOCATION:11 к. 336
END:VEVENT
BEGIN:VEVENT
UID:46i9@192.168.245.71:3006
SEQUENCE:0
DTSTAMP:20260425T222533Z
DTSTART:20251110T090000Z
DTEND:20251110T104000Z
SUMMARY:Архитектура вычислительных систем
LOCATION:11 к. 336
END:VEVENT
BEGIN:VEVENT
UID:1rhd@192.168.245.71:3006
SEQUENCE:0
DTSTAMP:20260425T222533Z
DTSTART:20251110T110000Z
DTEND:20251110T124000Z
SUMMARY:Архитектура вычислительных систем
LOCATION:11 к. 336
END:VEVENT
BEGIN:VEVENT
UID:21tb@192.168.245.71:3006
SEQUENCE:0
DTSTAMP:20260425T222533Z
DTSTART:20251111T090000Z
DTEND:20251111T104000Z
SUMMARY:Системы реального времени
LOCATION:11 к. 336
END:VEVENT
BEGIN:VEVENT
UID:l184@192.168.245.71:3006
SEQUENCE:0
DTSTAMP:20260425T222533Z
DTSTART:20251111T110000Z
DTEND:20251111T124000Z
SUMMARY:Микропроцессорные системы сбора и обработки данных для управления
LOCATION:11 к. 336
END:VEVENT
BEGIN:VEVENT
UID:gk6q@192.168.245.71:3006
SEQUENCE:0
DTSTAMP:20260425T222533Z
DTSTART:20251112T090000Z
DTEND:20251112T104000Z
SUMMARY:Архитектура вычислительных систем
LOCATION:11 к. 336
END:VEVENT
BEGIN:VEVENT
UID:v5t4@192.168.245.71:3006
SEQUENCE:0
DTSTAMP:20260425T222533Z
DTSTART:20251112T110000Z
DTEND:20251112T124000Z
SUMMARY:Архитектура вычислительных систем
LOCATION:11 к. 336
END:VEVENT
BEGIN:VEVENT
UID:yvqo@192.168.245.71:3006
SEQUENCE:0
DTSTAMP:20260425T222533Z
DTSTART:20251112T130000Z
DTEND:20251112T144000Z
SUMMARY:Архитектура вычислительных систем
LOCATION:11 к. 336
END:VEVENT
END:VCALENDAR