BEGIN:VCALENDAR
VERSION:2.0
PRODID:-//spbstu.ru//ical//RU
NAME:Расписание
X-WR-CALNAME:Расписание
TIMEZONE-ID:Europe/Moscow
X-WR-TIMEZONE:Europe/Moscow
BEGIN:VEVENT
UID:595q@192.168.245.71:3006
SEQUENCE:0
DTSTAMP:20260423T084659Z
DTSTART:20251103T110000Z
DTEND:20251103T124000Z
SUMMARY:Введение в профессиональную деятельность
LOCATION:1 к. 412
END:VEVENT
BEGIN:VEVENT
UID:49oa@192.168.245.71:3006
SEQUENCE:0
DTSTAMP:20260423T084659Z
DTSTART:20251105T110000Z
DTEND:20251105T124000Z
SUMMARY:Введение в профессиональную деятельность
LOCATION:1 к. 412
END:VEVENT
BEGIN:VEVENT
UID:s3zi@192.168.245.71:3006
SEQUENCE:0
DTSTAMP:20260423T084659Z
DTSTART:20251105T130000Z
DTEND:20251105T144000Z
SUMMARY:Введение в профессиональную деятельность
LOCATION:1 к. 412
END:VEVENT
BEGIN:VEVENT
UID:kc3l@192.168.245.71:3006
SEQUENCE:0
DTSTAMP:20260423T084659Z
DTSTART:20251107T090000Z
DTEND:20251107T104000Z
SUMMARY:Теория механизмов и машин
LOCATION:Мех. к. каф.Т ММ
END:VEVENT
BEGIN:VEVENT
UID:9ynv@192.168.245.71:3006
SEQUENCE:0
DTSTAMP:20260423T084659Z
DTSTART:20251107T110000Z
DTEND:20251107T124000Z
SUMMARY:Теория механизмов и машин
LOCATION:Мех. к. каф.Т ММ
END:VEVENT
END:VCALENDAR