BEGIN:VCALENDAR
VERSION:2.0
PRODID:-//spbstu.ru//ical//RU
NAME:Расписание
X-WR-CALNAME:Расписание
TIMEZONE-ID:Europe/Moscow
X-WR-TIMEZONE:Europe/Moscow
BEGIN:VEVENT
UID:8xnd@192.168.245.71:3006
SEQUENCE:0
DTSTAMP:20260421T150017Z
DTSTART:20260217T110000Z
DTEND:20260217T124000Z
SUMMARY:Детали машин и основы конструирования
LOCATION:1 к. 412
END:VEVENT
BEGIN:VEVENT
UID:5mt3@192.168.245.71:3006
SEQUENCE:0
DTSTAMP:20260421T150017Z
DTSTART:20260218T090000Z
DTEND:20260218T104000Z
SUMMARY:Введение в механику машин
LOCATION:Мех. к. каф.Т ММ
END:VEVENT
BEGIN:VEVENT
UID:eoiq@192.168.245.71:3006
SEQUENCE:0
DTSTAMP:20260421T150017Z
DTSTART:20260218T110000Z
DTEND:20260218T124000Z
SUMMARY:Введение в механику машин
LOCATION:Мех. к. каф.Т ММ
END:VEVENT
BEGIN:VEVENT
UID:w1c7@192.168.245.71:3006
SEQUENCE:0
DTSTAMP:20260421T150017Z
DTSTART:20260220T090000Z
DTEND:20260220T104000Z
SUMMARY:Детали машин и основы конструирования
LOCATION:Мех. к. каф.Т ММ
END:VEVENT
BEGIN:VEVENT
UID:edw5@192.168.245.71:3006
SEQUENCE:0
DTSTAMP:20260421T150017Z
DTSTART:20260220T110000Z
DTEND:20260220T124000Z
SUMMARY:Теория механизмов и машин
LOCATION:Мех. к. каф.Т ММ
END:VEVENT
BEGIN:VEVENT
UID:34z7@192.168.245.71:3006
SEQUENCE:0
DTSTAMP:20260421T150017Z
DTSTART:20260220T130000Z
DTEND:20260220T144000Z
SUMMARY:Введение в механику машин
LOCATION:Мех. к. каф.Т ММ
END:VEVENT
BEGIN:VEVENT
UID:15ll@192.168.245.71:3006
SEQUENCE:0
DTSTAMP:20260421T150017Z
DTSTART:20260220T150000Z
DTEND:20260220T170000Z
SUMMARY:Теория механизмов и машин
LOCATION:Мех. к. каф.Т ММ
END:VEVENT
END:VCALENDAR